BEGIN:VCALENDAR
VERSION:2.0
PRODID:-//Washington County Historical Society - ECPv6.4.0.1//NONSGML v1.0//EN
CALSCALE:GREGORIAN
METHOD:PUBLISH
X-WR-CALNAME:Washington County Historical Society
X-ORIGINAL-URL:https://www.wchsmn.org
X-WR-CALDESC:Events for Washington County Historical Society
REFRESH-INTERVAL;VALUE=DURATION:PT1H
X-Robots-Tag:noindex
X-PUBLISHED-TTL:PT1H
BEGIN:VTIMEZONE
TZID:America/Chicago
BEGIN:DAYLIGHT
TZOFFSETFROM:-0600
TZOFFSETTO:-0500
TZNAME:CDT
DTSTART:20240310T080000
END:DAYLIGHT
BEGIN:STANDARD
TZOFFSETFROM:-0500
TZOFFSETTO:-0600
TZNAME:CST
DTSTART:20241103T070000
END:STANDARD
END:VTIMEZONE
BEGIN:VEVENT
DTSTART;TZID=America/Chicago:20240402T183000
DTEND;TZID=America/Chicago:20240402T203000
DTSTAMP:20260419T230844
CREATED:20240216T205138Z
LAST-MODIFIED:20240222T195600Z
UID:8797-1712082600-1712089800@www.wchsmn.org
SUMMARY:"AND IN THIS CORNER\, from PARTS UNKNOWN" with wrestling historian George Schire
DESCRIPTION:WHO WAS THAT MASKED MAN? \nOn April 2\, 2024 at 6:30pm wrestling historian and author George Schire returns to the Washington County Heritage Center to share the identities and stories of wrestling’s mystery men.\n \nIn the old territory days of professional wrestling\, there was a highly populated city called\, “Parts Unknown”.  It couldn’t be found on any map\, because no one knew where it was located.  It was as mysterious as the wrestlers who were billed from this seemingly lost city.  \n \nEven more intriguing was that these wrestlers were all masked!  Their faces covered so they couldn’t be recognized for a variety of given reasons. \n \nWrestling fans were told by promoters that they didn’t know who these masked hombre’s were.  They didn’t know their names\, their weights\, or anything else about them.  And the fans bought it and ate it up! \n \nJOIN US APRIL 2ND for this behind the scenes visit to “Parts Unknown”.   \n\nIn-person attendees:\n1862 Greeley Street South\nStillwater\, MN 55082\nVirtual attendees:\nLink to WCHS YouTube page\n\nAbout George: \n \nAs a kid\, Schire found a way to escape the troubles of his life by becoming a wrestling fan\, glued to the TV set and then later traveling to see every live “card” in the Twin Cities and many more throughout the region. Over the years he has been involved in all aspects of the sport\, and he now offers detailed\, behind-the-scenes accounts of important matches from 1954 to 1990 and stories of wrestler personalities\, both in and out of the ring. He shares his own extensive collection of wrestling memorabilia— photographs\, program covers\, newspaper clippings\, and other ephemera—to honor the hardworking characters who forged serial storylines onstage week after week and who thrilled fans by carrying out their plots in the ring\, with blood\, sweat\, tears\, and high-flying body slams for all.
URL:https://www.wchsmn.org/event/loneranger/
LOCATION:Washington County Heritage Center\, 1862 South Greeley St\, Stillwater\, MN\, 55082\, United States
CATEGORIES:Washington County Heritage Center
ORGANIZER;CN="Washington County Heritage Center":MAILTO:emily.krawczewski@wchsmn.org
END:VEVENT
END:VCALENDAR