BEGIN:VCALENDAR
VERSION:2.0
PRODID:-//Washington County Historical Society - ECPv6.4.0.1//NONSGML v1.0//EN
CALSCALE:GREGORIAN
METHOD:PUBLISH
X-ORIGINAL-URL:https://www.wchsmn.org
X-WR-CALDESC:Events for Washington County Historical Society
REFRESH-INTERVAL;VALUE=DURATION:PT1H
X-Robots-Tag:noindex
X-PUBLISHED-TTL:PT1H
BEGIN:VTIMEZONE
TZID:America/Chicago
BEGIN:DAYLIGHT
TZOFFSETFROM:-0600
TZOFFSETTO:-0500
TZNAME:CDT
DTSTART:20240310T080000
END:DAYLIGHT
BEGIN:STANDARD
TZOFFSETFROM:-0500
TZOFFSETTO:-0600
TZNAME:CST
DTSTART:20241103T070000
END:STANDARD
END:VTIMEZONE
BEGIN:VEVENT
DTSTART;TZID=America/Chicago:20240808T190000
DTEND;TZID=America/Chicago:20240808T200000
DTSTAMP:20260419T170719
CREATED:20240427T195630Z
LAST-MODIFIED:20240726T205840Z
UID:8950-1723143600-1723147200@www.wchsmn.org
SUMMARY:Getting Started in Genealogy with Amanda Lathrop
DESCRIPTION:Are you interested in family history but are not sure where to start? Getting Started in Genealogy will show you how to ask the right questions\, find and evaluate sources\, use tools such as DNA\, and organize and share your findings. Amanda leads a one-hour introduction to genealogy full of stories\, laughter\, and fun with helpful tools to create a connection to your past.  \nAbout your instructor \nAfter nearly a decade of working as a production coordinator for Minnesota local production companies and producing shows for television networks like History Channel\, Food Network and Travel Channel\, Amanda Lathrop was driven to start her own production company\, Lead Sheep Productions\, LLC \nAfter producing a family history video for her own family\, she combined her genealogy hobby with her professional video business\, giving her the opportunity to use her skills to help people capture\, share\, and preserve their own stories.  \nIn-person attendees:\n1862 Greeley Street South\nStillwater\, MN 55082\nVirtual attendees:\nLink to WCHS YouTube page
URL:https://www.wchsmn.org/event/genes/
LOCATION:Washington County Heritage Center\, 1862 South Greeley St\, Stillwater\, MN\, 55082\, United States
CATEGORIES:Washington County Heritage Center
ORGANIZER;CN="Washington County Heritage Center":MAILTO:emily.krawczewski@wchsmn.org
END:VEVENT
END:VCALENDAR