BEGIN:VCALENDAR
VERSION:2.0
PRODID:-//Washington County Historical Society - ECPv6.4.0.1//NONSGML v1.0//EN
CALSCALE:GREGORIAN
METHOD:PUBLISH
X-ORIGINAL-URL:https://www.wchsmn.org
X-WR-CALDESC:Events for Washington County Historical Society
REFRESH-INTERVAL;VALUE=DURATION:PT1H
X-Robots-Tag:noindex
X-PUBLISHED-TTL:PT1H
BEGIN:VTIMEZONE
TZID:America/Chicago
BEGIN:DAYLIGHT
TZOFFSETFROM:-0600
TZOFFSETTO:-0500
TZNAME:CDT
DTSTART:20240310T080000
END:DAYLIGHT
BEGIN:STANDARD
TZOFFSETFROM:-0500
TZOFFSETTO:-0600
TZNAME:CST
DTSTART:20241103T070000
END:STANDARD
END:VTIMEZONE
BEGIN:VEVENT
DTSTART;TZID=America/Chicago:20240928T100000
DTEND;TZID=America/Chicago:20240928T120000
DTSTAMP:20260419T154110
CREATED:20240730T164219Z
LAST-MODIFIED:20240905T204703Z
UID:9117-1727517600-1727524800@www.wchsmn.org
SUMMARY:3rd Annual Historic Grounds Coffee Tasting
DESCRIPTION:Coffee’s on!!! Come celebrate autumn in a cozy\, festive atmosphere with a coffee tasting featuring buzzworthy brews from local shops!\nSaturday\, September 28 from 10am-noon\nTickets are $10/person. Ages 10 and under free.\n \nProceeds benefit the Washington County Historical Society and help us to continue to preserve and share the rich history of our area!\nFor planning purposes for our coffee shop vendors\, we strongly encourage buying tickets in advance. 🙂 Buy tickets here!\nTickets may also be purchased on the day. After purchasing a ticket\, your name will be added to the guest list. Please bring your ID on the day of the event to claim your ticket. \nRain or shine! All sales are final and non-refundable.\n \nQuestions? Call 651-439-2298.\n 
URL:https://www.wchsmn.org/event/coffee24/
LOCATION:Washington County Heritage Center\, 1862 South Greeley St\, Stillwater\, MN\, 55082\, United States
CATEGORIES:Washington County Heritage Center
ORGANIZER;CN="Washington County Heritage Center":MAILTO:emily.krawczewski@wchsmn.org
END:VEVENT
END:VCALENDAR