BEGIN:VCALENDAR
VERSION:2.0
PRODID:-//Washington County Historical Society - ECPv6.4.0.1//NONSGML v1.0//EN
CALSCALE:GREGORIAN
METHOD:PUBLISH
X-WR-CALNAME:Washington County Historical Society
X-ORIGINAL-URL:https://www.wchsmn.org
X-WR-CALDESC:Events for Washington County Historical Society
REFRESH-INTERVAL;VALUE=DURATION:PT1H
X-Robots-Tag:noindex
X-PUBLISHED-TTL:PT1H
BEGIN:VTIMEZONE
TZID:America/Chicago
BEGIN:DAYLIGHT
TZOFFSETFROM:-0600
TZOFFSETTO:-0500
TZNAME:CDT
DTSTART:20240310T080000
END:DAYLIGHT
BEGIN:STANDARD
TZOFFSETFROM:-0500
TZOFFSETTO:-0600
TZNAME:CST
DTSTART:20241103T070000
END:STANDARD
END:VTIMEZONE
BEGIN:VEVENT
DTSTART;TZID=America/Chicago:20241106T190000
DTEND;TZID=America/Chicago:20241106T200000
DTSTAMP:20260419T123021
CREATED:20240323T161234Z
LAST-MODIFIED:20241105T185549Z
UID:8834-1730919600-1730923200@www.wchsmn.org
SUMMARY:CANCELLED: Minnesota Rural Women's Clubs with Kate Thomas
DESCRIPTION:The event “Minnesota Rural Women’s Clubs” with Kate Thomas on Wednesday\, November 6 has been cancelled due to unforeseen circumstances. We hope to reschedule this event for 2025.\n \nImmerse yourself in the ideas\, concerns\, and activities of rural women’s clubs in Minnesota from 1920-1990s.  Learn about the crucial importance of gender history to civic engagement in these rural areas. Understand how rural women’s clubs provided opportunities for women working in the home and on the farm to gain leadership skills and assert their voices publicly at a time when they were often passed over for higher-level government positions or political office. \nKate Thomas is a historian\, Ph.D. UMN 2005\, who taught all levels of U.S. History as well as  the history of Women and War and Mixed-Heritage History at the University of Wisconsin – Stout for fifteen years.  In addition to teaching and research\, she also chaired the campus Inclusive Excellence and  Women and Gender Studies committees. In 2011 she had the honor of being chosen by Norton Publishers to create five Google Earth history tours using primary documents to guide students through hundreds of years of inclusive history across North America.  She currently resides in Afton where she works on history projects as an independent scholar.  She loves history!  \nIn-person attendees:\n1862 Greeley Street South\nStillwater\, MN 55082\nVirtual attendees:\nLink to WCHS YouTube page
URL:https://www.wchsmn.org/event/ruralclubs/
LOCATION:Washington County Heritage Center\, 1862 South Greeley St\, Stillwater\, MN\, 55082\, United States
CATEGORIES:Washington County Heritage Center
ORGANIZER;CN="Washington County Heritage Center":MAILTO:emily.krawczewski@wchsmn.org
END:VEVENT
END:VCALENDAR