BEGIN:VCALENDAR
VERSION:2.0
PRODID:-//Washington County Historical Society - ECPv6.4.0.1//NONSGML v1.0//EN
CALSCALE:GREGORIAN
METHOD:PUBLISH
X-WR-CALNAME:Washington County Historical Society
X-ORIGINAL-URL:https://www.wchsmn.org
X-WR-CALDESC:Events for Washington County Historical Society
REFRESH-INTERVAL;VALUE=DURATION:PT1H
X-Robots-Tag:noindex
X-PUBLISHED-TTL:PT1H
BEGIN:VTIMEZONE
TZID:America/Chicago
BEGIN:DAYLIGHT
TZOFFSETFROM:-0600
TZOFFSETTO:-0500
TZNAME:CDT
DTSTART:20250309T080000
END:DAYLIGHT
BEGIN:STANDARD
TZOFFSETFROM:-0500
TZOFFSETTO:-0600
TZNAME:CST
DTSTART:20251102T070000
END:STANDARD
END:VTIMEZONE
BEGIN:VEVENT
DTSTART;TZID=America/Chicago:20250227T180000
DTEND;TZID=America/Chicago:20250227T200000
DTSTAMP:20260419T080457
CREATED:20250211T212218Z
LAST-MODIFIED:20250211T215018Z
UID:9367-1740679200-1740686400@www.wchsmn.org
SUMMARY:National Toast Day Party!
DESCRIPTION:The Washington County Historical Society invites you to celebrate National Toast Day in Stillwater\, Minnesota: the birthplace of the automatic pop-up toaster.  Just over a century ago\, Charles Strite was employed at a local manufacturing plant. Fed up with burned toast in the cafeteria\, a great idea “popped” into his head\, and the Toastmaster automatic electric toaster was born! \nPlease join us at the Washington County Heritage Center (1862 Greeley St. South) in Stillwater\, MN on National Toast Day\, Thursday\, February 27 from 6-8pm.   Enjoy a program about the history of toast and view our antique toaster collection.  Sample toast and toppings from local bakeries and markets\, and vote for your favorite to be named toast of the town.   Admission is free\, but donations are accepted.  For more information please contact heidi.heinze@wchsmn.org.
URL:https://www.wchsmn.org/event/toast25/
LOCATION:Washington County Heritage Center\, 1862 South Greeley St\, Stillwater\, MN\, 55082\, United States
CATEGORIES:Washington County Heritage Center
ORGANIZER;CN="Washington County Heritage Center":MAILTO:emily.krawczewski@wchsmn.org
END:VEVENT
END:VCALENDAR