BEGIN:VCALENDAR
VERSION:2.0
PRODID:-//Washington County Historical Society - ECPv6.4.0.1//NONSGML v1.0//EN
CALSCALE:GREGORIAN
METHOD:PUBLISH
X-WR-CALNAME:Washington County Historical Society
X-ORIGINAL-URL:https://www.wchsmn.org
X-WR-CALDESC:Events for Washington County Historical Society
REFRESH-INTERVAL;VALUE=DURATION:PT1H
X-Robots-Tag:noindex
X-PUBLISHED-TTL:PT1H
BEGIN:VTIMEZONE
TZID:America/Chicago
BEGIN:DAYLIGHT
TZOFFSETFROM:-0600
TZOFFSETTO:-0500
TZNAME:CDT
DTSTART:20250309T080000
END:DAYLIGHT
BEGIN:STANDARD
TZOFFSETFROM:-0500
TZOFFSETTO:-0600
TZNAME:CST
DTSTART:20251102T070000
END:STANDARD
END:VTIMEZONE
BEGIN:VEVENT
DTSTART;TZID=America/Chicago:20250430T180000
DTEND;TZID=America/Chicago:20250430T200000
DTSTAMP:20260419T105757
CREATED:20250319T163218Z
LAST-MODIFIED:20250319T164220Z
UID:9411-1746036000-1746043200@www.wchsmn.org
SUMMARY:ALL-STAR WRESTLING with George Schire
DESCRIPTION:Baron Von Raschke about to put the “Claw Hold” on George Schire\, and Verne Gagne applying his “Sleeper Hold” \n\n \nRUN\, DON’T WALK…to the Washington County Heritage Center for Historian and Author George Schire’s latest ALL-STAR WRESTLING Talk and  Presentation! \n \nAs he always does\, Schire will take you through the ropes and down memory lane with stories of professional wrestling’s wild and wacky characters. \n \nWhether it be the heels or the babyfaces\, you’ll be entertained hearing of their character incarnations and the gimmicks that made us love them and hate them! \n \nAnd\, there will be another chance to win an incredible wrestling collectible! It’s a Main Event Night you won’t want to miss.  See you there!\n \n\nIn-person attendees:\n1862 Greeley Street South\nStillwater\, MN 55082\nVirtual attendees:\nLink to WCHS YouTube page
URL:https://www.wchsmn.org/event/wrestling7/
LOCATION:Washington County Heritage Center\, 1862 South Greeley St\, Stillwater\, MN\, 55082\, United States
CATEGORIES:Washington County Heritage Center
ORGANIZER;CN="Washington County Heritage Center":MAILTO:emily.krawczewski@wchsmn.org
END:VEVENT
END:VCALENDAR