BEGIN:VCALENDAR
VERSION:2.0
PRODID:-//Washington County Historical Society - ECPv6.4.0.1//NONSGML v1.0//EN
CALSCALE:GREGORIAN
METHOD:PUBLISH
X-ORIGINAL-URL:https://www.wchsmn.org
X-WR-CALDESC:Events for Washington County Historical Society
REFRESH-INTERVAL;VALUE=DURATION:PT1H
X-Robots-Tag:noindex
X-PUBLISHED-TTL:PT1H
BEGIN:VTIMEZONE
TZID:America/Chicago
BEGIN:DAYLIGHT
TZOFFSETFROM:-0600
TZOFFSETTO:-0500
TZNAME:CDT
DTSTART:20250309T080000
END:DAYLIGHT
BEGIN:STANDARD
TZOFFSETFROM:-0500
TZOFFSETTO:-0600
TZNAME:CST
DTSTART:20251102T070000
END:STANDARD
END:VTIMEZONE
BEGIN:VEVENT
DTSTART;TZID=America/Chicago:20250603T190000
DTEND;TZID=America/Chicago:20250603T200000
DTSTAMP:20260419T140453
CREATED:20250318T203516Z
LAST-MODIFIED:20251206T170813Z
UID:9404-1748977200-1748980800@www.wchsmn.org
SUMMARY:"Sound of Silence" with author and retired law enforcement officer L.C. Simon
DESCRIPTION: \n \nL.C. Simon releases his new book “Sound of Silence\,” a fictional piece based on true events from his decades in law enforcement working on behalf of children.\n \nNo registration required. Copies of the book will be for sale at the event.\n \nABOUT THE BOOK:\nTaking on a case that has been deemed un-chargeable\, Special Victims Unit Detective Jack Janssen\, pledges to find justice for a young female victim\, never imagining what he would uncover in the path of his investigation. In his second book for the Jack Janssen series\, Simon is inspired by the hundreds of investigations from his Washington County Sheriff’s Office career.\n \nSimon weaves a compelling novel that will pull you into the storyline of Detective Jack Janssen and his seasoned partner\, Washington County Child Protection Worker\, Rita Bullock.\n \nIt is a gripping investigation with complexities that develop into an unimaginable and unpredictable conclusion. It will keep you turning the pages. Buckle up and enjoy the ride along.\n \n\nABOUT THE AUTHOR: \n \nMy career in law enforcement span twenty seven years\, with seventeen of those years focused exclusively on child abuse investigation. I was also a contract employee for the Minnesota Bureau of Criminal Apprehension for ten years\, teaching other law enforcement across the state the unique techniques used in this specialized field. \nAfter retirement\, my wife and I traveled the country in a motorhome\, and for twelve years spent our summers living and working in Voyageurs National Park. \nI have never lost my dedication to the cause of children\, and recently decided to spend some time writing novels that draw from my experience in law enforcement while highlighting the problem of child abuse in our country. I think I hit the mark; making a fun interesting read and informing at the same time \n\nClick here to watch the program on WCHS’s YouTube page
URL:https://www.wchsmn.org/event/simon/
LOCATION:Washington County Heritage Center\, 1862 South Greeley St\, Stillwater\, MN\, 55082\, United States
CATEGORIES:Washington County Heritage Center
ORGANIZER;CN="Washington County Heritage Center":MAILTO:emily.krawczewski@wchsmn.org
END:VEVENT
END:VCALENDAR