BEGIN:VCALENDAR
VERSION:2.0
PRODID:-//Washington County Historical Society - ECPv6.4.0.1//NONSGML v1.0//EN
CALSCALE:GREGORIAN
METHOD:PUBLISH
X-WR-CALNAME:Washington County Historical Society
X-ORIGINAL-URL:https://www.wchsmn.org
X-WR-CALDESC:Events for Washington County Historical Society
REFRESH-INTERVAL;VALUE=DURATION:PT1H
X-Robots-Tag:noindex
X-PUBLISHED-TTL:PT1H
BEGIN:VTIMEZONE
TZID:America/Chicago
BEGIN:DAYLIGHT
TZOFFSETFROM:-0600
TZOFFSETTO:-0500
TZNAME:CDT
DTSTART:20250309T080000
END:DAYLIGHT
BEGIN:STANDARD
TZOFFSETFROM:-0500
TZOFFSETTO:-0600
TZNAME:CST
DTSTART:20251102T070000
END:STANDARD
END:VTIMEZONE
BEGIN:VEVENT
DTSTART;TZID=America/Chicago:20250805T190000
DTEND;TZID=America/Chicago:20250805T200000
DTSTAMP:20260419T165805
CREATED:20250618T200236Z
LAST-MODIFIED:20250708T201230Z
UID:9518-1754420400-1754424000@www.wchsmn.org
SUMMARY:Black & White Movie Night: Buster Keaton in "Sherlock Jr."
DESCRIPTION:Sherlock Jr. (1924)\nComing to the Heritage Center’s silver screen is Buster Keaton in Sherlock Jr. (1924)! \nDirected by & starring Buster Keaton. A lovesick movie projectionist steps through the silver screen into a dream world where he can solve all his problems. It is regarded as Keaton’s first great full-length silent comedy. \nPopcorn and a movie ticket giveaway are also in store!
URL:https://www.wchsmn.org/event/black-white-movie-night-2/
LOCATION:Washington County Heritage Center\, 1862 South Greeley St\, Stillwater\, MN\, 55082\, United States
END:VEVENT
END:VCALENDAR