BEGIN:VCALENDAR
VERSION:2.0
PRODID:-//Washington County Historical Society - ECPv6.4.0.1//NONSGML v1.0//EN
CALSCALE:GREGORIAN
METHOD:PUBLISH
X-ORIGINAL-URL:https://www.wchsmn.org
X-WR-CALDESC:Events for Washington County Historical Society
REFRESH-INTERVAL;VALUE=DURATION:PT1H
X-Robots-Tag:noindex
X-PUBLISHED-TTL:PT1H
BEGIN:VTIMEZONE
TZID:America/Chicago
BEGIN:DAYLIGHT
TZOFFSETFROM:-0600
TZOFFSETTO:-0500
TZNAME:CDT
DTSTART:20250309T080000
END:DAYLIGHT
BEGIN:STANDARD
TZOFFSETFROM:-0500
TZOFFSETTO:-0600
TZNAME:CST
DTSTART:20251102T070000
END:STANDARD
END:VTIMEZONE
BEGIN:VEVENT
DTSTART;TZID=America/Chicago:20250925T173000
DTEND;TZID=America/Chicago:20250925T210000
DTSTAMP:20260419T182922
CREATED:20250826T204457Z
LAST-MODIFIED:20250826T204749Z
UID:9724-1758821400-1758834000@www.wchsmn.org
SUMMARY:Fall Membership Dinner 2025
DESCRIPTION:The Washington County Historical Society is excited to announce the Fall Membership Dinner featuring a program about Walt Disney by Heritage Center Site Manager Emily Krawczewski.\nLOCATION:\nStillwater Event Center\n1910 South Greeley Street (located next to the Washington County Heritage Center)\nStillwater\, MN 55082 \nTIMING:\n5:30pm  Social Hour\n6:30pm Dinner catered by Scheel’s Catering\n7:30pm Brief meeting shortly followed by the program \nCOST:\nCost is $25 for WCHS members and $30 for nonmembers. \nReservations are required. Reserve your spot and pay ahead at this link or call 651-439-2298.\nPROGRAM INFO: \nWhile most people are familiar with seeing the word “Disney” onscreen\, this program will take you backstage to the man behind the magic. Krawczewski’s presentation will travel through Walt Disney’s life story\, starting with his idyllic childhood in Marceline\, Missouri and culminating in his greatest triumph\, Disneyland. Krawczewski will also explore common myths about Disney himself\, why the movies have relevance to both children and adults\, and hidden design features of the parks. Walt Disney’s life is a story of tenacity\, escapism\, and lessons that transcend generations. Emily Krawczewski is the Site Manager of the Washington County Heritage Center and has been studying Walt Disney for over a decade. \n \n 
URL:https://www.wchsmn.org/event/falldinner25/
LOCATION:Stillwater Event Center\, 1910 Greeley Street South\, Stillwater\, MN\, 55082\, United States
ORGANIZER;CN="Washington County Heritage Center":MAILTO:emily.krawczewski@wchsmn.org
END:VEVENT
END:VCALENDAR