BEGIN:VCALENDAR
VERSION:2.0
PRODID:-//Washington County Historical Society - ECPv6.4.0.1//NONSGML v1.0//EN
CALSCALE:GREGORIAN
METHOD:PUBLISH
X-WR-CALNAME:Washington County Historical Society
X-ORIGINAL-URL:https://www.wchsmn.org
X-WR-CALDESC:Events for Washington County Historical Society
REFRESH-INTERVAL;VALUE=DURATION:PT1H
X-Robots-Tag:noindex
X-PUBLISHED-TTL:PT1H
BEGIN:VTIMEZONE
TZID:America/Chicago
BEGIN:DAYLIGHT
TZOFFSETFROM:-0600
TZOFFSETTO:-0500
TZNAME:CDT
DTSTART:20250309T080000
END:DAYLIGHT
BEGIN:STANDARD
TZOFFSETFROM:-0500
TZOFFSETTO:-0600
TZNAME:CST
DTSTART:20251102T070000
END:STANDARD
END:VTIMEZONE
BEGIN:VEVENT
DTSTART;TZID=America/Chicago:20251018T180000
DTEND;TZID=America/Chicago:20251018T203000
DTSTAMP:20260419T195628
CREATED:20250807T203104Z
LAST-MODIFIED:20250807T203302Z
UID:9665-1760810400-1760819400@www.wchsmn.org
SUMMARY:Flashlight Tours at the Warden's House Museum
DESCRIPTION:Come and see the house and grounds after dark\, while you hear true tales of terror and tragedy from the Minnesota State Prison. Local legend says that the place is haunted…come and find out for yourself if you dare! \nTimes and Dates: \nFriday\, October 17 @ 6:00PM\, 6:45PM\, and 7:30PM \nSaturday\, October 18 @ 6:00PM\, 6:45PM\, and 7:30PM \nTours will last approximately one hour. \nTickets: \nTickets are $35 per person. Click here to buy tickets! \nPlease arrive approximately 10 minutes before the tour start time. After purchasing your ticket\, we will add your name to the guest list! Bring your ID to the event to claim your tickets. \nQuestions?  \nCall the Warden’s House at 651-439-5956 or email heidi.heinze@wchsmn.org
URL:https://www.wchsmn.org/event/flashlight25_18/
LOCATION:Warden’s House Museum\, 602 Main Street North\, Stillwater\, MN\, 55082\, United States
CATEGORIES:Warden's House Museum
END:VEVENT
END:VCALENDAR