BEGIN:VCALENDAR
VERSION:2.0
PRODID:-//Washington County Historical Society - ECPv6.4.0.1//NONSGML v1.0//EN
CALSCALE:GREGORIAN
METHOD:PUBLISH
X-WR-CALNAME:Washington County Historical Society
X-ORIGINAL-URL:https://www.wchsmn.org
X-WR-CALDESC:Events for Washington County Historical Society
REFRESH-INTERVAL;VALUE=DURATION:PT1H
X-Robots-Tag:noindex
X-PUBLISHED-TTL:PT1H
BEGIN:VTIMEZONE
TZID:America/Chicago
BEGIN:DAYLIGHT
TZOFFSETFROM:-0600
TZOFFSETTO:-0500
TZNAME:CDT
DTSTART:20250309T080000
END:DAYLIGHT
BEGIN:STANDARD
TZOFFSETFROM:-0500
TZOFFSETTO:-0600
TZNAME:CST
DTSTART:20251102T070000
END:STANDARD
END:VTIMEZONE
BEGIN:VEVENT
DTSTART;TZID=America/Chicago:20251105T190000
DTEND;TZID=America/Chicago:20251105T200000
DTSTAMP:20260419T213505
CREATED:20250916T201306Z
LAST-MODIFIED:20251206T170605Z
UID:9770-1762369200-1762372800@www.wchsmn.org
SUMMARY:Minnesota Seventh in the Civil War with Eric Linner
DESCRIPTION:Eric Linner’s family has a long history of Army veterans\, including himself\, two brothers\, his father\, grandfather\, great-grandfather and great-great grandfather. His inspiration to research his great-great-grandfather’s journey with the Minnesota Seventh in the Civil War-West started 50 years ago when his grandmother piqued his interest in family history. \nThe presentation will give a brief history of his great-grandfather Sergeant James Madison Canfield\, with a primary focus on the 10\,600 mile journey the Minnesota Seventh traveled starting with the 1862 Dakota War and ending with the Battle of Spanish Fort\, AL in 1865. \n \n\nClick here to watch the program on WCHS’s YouTube page
URL:https://www.wchsmn.org/event/civilwar/
LOCATION:Washington County Heritage Center\, 1862 South Greeley St\, Stillwater\, MN\, 55082\, United States
CATEGORIES:Washington County Heritage Center
ORGANIZER;CN="Washington County Heritage Center":MAILTO:emily.krawczewski@wchsmn.org
END:VEVENT
END:VCALENDAR