BEGIN:VCALENDAR
VERSION:2.0
PRODID:-//Washington County Historical Society - ECPv6.4.0.1//NONSGML v1.0//EN
CALSCALE:GREGORIAN
METHOD:PUBLISH
X-WR-CALNAME:Washington County Historical Society
X-ORIGINAL-URL:https://www.wchsmn.org
X-WR-CALDESC:Events for Washington County Historical Society
REFRESH-INTERVAL;VALUE=DURATION:PT1H
X-Robots-Tag:noindex
X-PUBLISHED-TTL:PT1H
BEGIN:VTIMEZONE
TZID:America/Chicago
BEGIN:DAYLIGHT
TZOFFSETFROM:-0600
TZOFFSETTO:-0500
TZNAME:CDT
DTSTART:20260308T080000
END:DAYLIGHT
BEGIN:STANDARD
TZOFFSETFROM:-0500
TZOFFSETTO:-0600
TZNAME:CST
DTSTART:20261101T070000
END:STANDARD
END:VTIMEZONE
BEGIN:VEVENT
DTSTART;TZID=America/Chicago:20260328T110000
DTEND;TZID=America/Chicago:20260328T120000
DTSTAMP:20260422T033259
CREATED:20260107T174848Z
LAST-MODIFIED:20260217T173026Z
UID:9891-1774695600-1774699200@www.wchsmn.org
SUMMARY:“Lighthouses of the Great Lakes: An Architect’s Sketchbook" with Jim Lammers
DESCRIPTION:Jim Lammers presents his newest book\, “Lighthouses of the Great Lakes: An Architect’s Sketchbook.” \nThe book contains 500 sketches of beacons all over the Great Lakes area. Lammers takes readers on a road trip\, sharing the history and inner workings of the lighthouses as well as the lighthouse establishment itself. Copies of the book will be for sale at the event. \n“If you love the Great Lakes and lighthouses\, this is the book for you. Lammers is an entertaining guide for this illuminating adventure\, combining fascinating history and personal vignettes with wonderful sketches of the noble beacons he encounters along the way. Don’t be surprised if\, after reading this book\, you want to hop into your car to take your own lighthouse tour.”\n—Eric Jay Dolin\, author of Brilliant Beacons: The History of the American Lighthouse \nFree\, but donations are always appreciated. No registration required.\nIn-person attendees:\n1862 Greeley Street South\nStillwater\, MN 55082\nVirtual attendees:\nLink to WCHS YouTube page
URL:https://www.wchsmn.org/event/lighthouse/
LOCATION:Washington County Heritage Center\, 1862 South Greeley St\, Stillwater\, MN\, 55082\, United States
CATEGORIES:Washington County Heritage Center
END:VEVENT
END:VCALENDAR