BEGIN:VCALENDAR
VERSION:2.0
PRODID:-//Washington County Historical Society - ECPv6.4.0.1//NONSGML v1.0//EN
CALSCALE:GREGORIAN
METHOD:PUBLISH
X-WR-CALNAME:Washington County Historical Society
X-ORIGINAL-URL:https://www.wchsmn.org
X-WR-CALDESC:Events for Washington County Historical Society
REFRESH-INTERVAL;VALUE=DURATION:PT1H
X-Robots-Tag:noindex
X-PUBLISHED-TTL:PT1H
BEGIN:VTIMEZONE
TZID:America/Chicago
BEGIN:DAYLIGHT
TZOFFSETFROM:-0600
TZOFFSETTO:-0500
TZNAME:CDT
DTSTART:20260308T080000
END:DAYLIGHT
BEGIN:STANDARD
TZOFFSETFROM:-0500
TZOFFSETTO:-0600
TZNAME:CST
DTSTART:20261101T070000
END:STANDARD
END:VTIMEZONE
BEGIN:VEVENT
DTSTART;TZID=America/Chicago:20260425T110000
DTEND;TZID=America/Chicago:20260425T120000
DTSTAMP:20260422T065733
CREATED:20251212T203726Z
LAST-MODIFIED:20260217T182408Z
UID:9852-1777114800-1777118400@www.wchsmn.org
SUMMARY:"The Tales and Times of Isaac Labissonière" with Mark Labine
DESCRIPTION:Author and historian Mark Labine will tell the adventurous story of​ ​Isaac Labissonière\, a 19th Century Métis pioneer who ​blazed a trail of firsts in Minnesota. \nIsaac traveled with his family via oxcart from the Selkirk Colony to become one of the first settlers of St. Paul in the 1830s. He went on to build the St. Paul Chapel\, became one of the first landowners on Lake Como in 1848\, and established a community in Osseo. In addition\, his military career included the Battle of Kaposia in the U.S. Dakota War. \nCopies of Mark Labine’s new book titled\, “The Tales and Times of Isaac Labissonière” will be available for purchase at the event.  \n \nFree\, but donations are always appreciated. No registration required.\nIn-person attendees:\n1862 Greeley Street South\nStillwater\, MN 55082\nVirtual attendees:\nLink to WCHS YouTube page
URL:https://www.wchsmn.org/event/talesandtimes/
LOCATION:Washington County Heritage Center\, 1862 South Greeley St\, Stillwater\, MN\, 55082\, United States
CATEGORIES:Washington County Heritage Center
ORGANIZER;CN="Washington County Heritage Center":MAILTO:emily.krawczewski@wchsmn.org
END:VEVENT
END:VCALENDAR