BEGIN:VCALENDAR
VERSION:2.0
PRODID:-//Washington County Historical Society - ECPv6.4.0.1//NONSGML v1.0//EN
CALSCALE:GREGORIAN
METHOD:PUBLISH
X-ORIGINAL-URL:https://www.wchsmn.org
X-WR-CALDESC:Events for Washington County Historical Society
REFRESH-INTERVAL;VALUE=DURATION:PT1H
X-Robots-Tag:noindex
X-PUBLISHED-TTL:PT1H
BEGIN:VTIMEZONE
TZID:America/Chicago
BEGIN:DAYLIGHT
TZOFFSETFROM:-0600
TZOFFSETTO:-0500
TZNAME:CDT
DTSTART:20220313T080000
END:DAYLIGHT
BEGIN:STANDARD
TZOFFSETFROM:-0500
TZOFFSETTO:-0600
TZNAME:CST
DTSTART:20221106T070000
END:STANDARD
BEGIN:DAYLIGHT
TZOFFSETFROM:-0600
TZOFFSETTO:-0500
TZNAME:CDT
DTSTART:20230312T080000
END:DAYLIGHT
BEGIN:STANDARD
TZOFFSETFROM:-0500
TZOFFSETTO:-0600
TZNAME:CST
DTSTART:20231105T070000
END:STANDARD
BEGIN:DAYLIGHT
TZOFFSETFROM:-0600
TZOFFSETTO:-0500
TZNAME:CDT
DTSTART:20240310T080000
END:DAYLIGHT
BEGIN:STANDARD
TZOFFSETFROM:-0500
TZOFFSETTO:-0600
TZNAME:CST
DTSTART:20241103T070000
END:STANDARD
BEGIN:DAYLIGHT
TZOFFSETFROM:-0600
TZOFFSETTO:-0500
TZNAME:CDT
DTSTART:20250309T080000
END:DAYLIGHT
BEGIN:STANDARD
TZOFFSETFROM:-0500
TZOFFSETTO:-0600
TZNAME:CST
DTSTART:20251102T070000
END:STANDARD
END:VTIMEZONE
BEGIN:VEVENT
DTSTART;TZID=America/Chicago:20250815T160000
DTEND;TZID=America/Chicago:20250815T170000
DTSTAMP:20260424T201759
CREATED:20250802T170643Z
LAST-MODIFIED:20250802T172851Z
UID:9589-1755273600-1755277200@www.wchsmn.org
SUMMARY:Hay Lake School Speaker Series: Christine Maefsky\, former mayor of Scandia
DESCRIPTION:
URL:https://www.wchsmn.org/event/hay-lake-speaker-series-christine-maefsky-former-mayor-of-scandia/
LOCATION:Hay Lake School\, 14020 195th St N\, Marine on St. Croix\, MN\, 55047
CATEGORIES:Hay Lake School & Erickson Log Home
ORGANIZER;CN="Hay Lake School and Erickson Log Home":MAILTO:susan.stepka@wchsmn.org
END:VEVENT
BEGIN:VEVENT
DTSTART;TZID=America/Chicago:20250621T160000
DTEND;TZID=America/Chicago:20250621T190000
DTSTAMP:20260424T201759
CREATED:20250521T205758Z
LAST-MODIFIED:20250618T204453Z
UID:9481-1750521600-1750532400@www.wchsmn.org
SUMMARY:18th Annual Beer Tasting and Silent Auction
DESCRIPTION:Buy tickets here!\nWCHS is excited to present the 18th Annual Hay Lake Beer Tasting! Breweries from all over Minnesota and Wisconsin will be slinging their best beers for you to sample and compare! \nIn addition to the tasting\, there will be a silent auction of many sought-after items and food served. \n  \nHere are the participating breweries: \nSierra Nevada \nJoseph Wolf Brewing \nCastle Danger \nOliphant Brewing \nSummit \nLift Bridge Brewing \nRustic Roots Winery \n$20/person. Ages 21+ only. \nTickets are available for purchase on our website OR in-person on the day at the event.\nWCHS encourages pre-ordering tickets – this helps the breweries plan ahead on how much beer to bring!\nProceeds support the Washington County Historical Society’s mission to collect\, preserve\, and disseminate the history of Washington County and Minnesota. \nPlease contact Susan Stepka at susan.stepka@wchsmn.org or 651-433-4014 with any questions regarding this event or to schedule a tour of the museum.  \nThe Hay Lake School was constructed of brick in 1896 and held classes until 1963. After that\, the Washington County Historical Society purchased the school in 1978 and has been a public museum ever since. The school is on the National Register of Historic Places.
URL:https://www.wchsmn.org/event/beer25/
LOCATION:Hay Lake School\, 14020 195th St N\, Marine on St. Croix\, MN\, 55047
CATEGORIES:Hay Lake School & Erickson Log Home
ORGANIZER;CN="Hay Lake School and Erickson Log Home":MAILTO:susan.stepka@wchsmn.org
END:VEVENT
BEGIN:VEVENT
DTSTART;TZID=America/Chicago:20250516T160000
DTEND;TZID=America/Chicago:20250516T170000
DTSTAMP:20260424T201759
CREATED:20250415T170717Z
LAST-MODIFIED:20250415T171132Z
UID:9437-1747411200-1747414800@www.wchsmn.org
SUMMARY:History of William O'Brien State Park with Elizabeth Nelson
DESCRIPTION:Photo credit: Sharon Brodin\n*Hosted at Hay Lake School\n14020 195th St N.\, Marine on St. Croix\, MN 55047\nElizabeth Nelson\, a naturalist from William O’Brien State Park\, will present about the history of the park. Her program will include the history of the O’Brien Family\, the history of the Copas area\, and the changes to the boundaries of the park as they added new parcels of land. \nFree! In person only. No registration required. \nAbout William O’Brien State Park: \nThe park’s namesake comes from a lumber baron\, William O’Brien\, who owned the land prior to passing it on to his daughter\, Alice. She donated the first 180 acres that formed the nucleus of the park. The park was established as the first metro area state park in 1947. (via parksandtrails.org)  \n 
URL:https://www.wchsmn.org/event/obrien/
LOCATION:Hay Lake School\, 14020 195th St N\, Marine on St. Croix\, MN\, 55047
CATEGORIES:Hay Lake School & Erickson Log Home
ORGANIZER;CN="Hay Lake School and Erickson Log Home":MAILTO:susan.stepka@wchsmn.org
END:VEVENT
BEGIN:VEVENT
DTSTART;TZID=America/Chicago:20241005T160000
DTEND;TZID=America/Chicago:20241005T190000
DTSTAMP:20260424T201759
CREATED:20240903T173835Z
LAST-MODIFIED:20240906T172837Z
UID:9185-1728144000-1728154800@www.wchsmn.org
SUMMARY:Oktoberfest - Beer Tasting and Silent Auction at Hay Lake School
DESCRIPTION:For seventeen years\, this event has become the keystone fundraiser for the Washington County Historical Society. This year the breweries attending are Bent Brewstillery\, Bent Paddle Brewery\, Castle Danger\, Lift Bridge Brewery\, Sierra Nevada Brewery\, Summit Brewery\, Rustic Roots winery and more! This event is rescheduled from a rained-out summer date. \n \nAdmission to the event is $20 per person and participants must be 21 years or older. All proceeds from this event benefit the Washington County Historical Society! Tickets are available for purchase at the event on the day. Payment options include cash\, card\, or check. Thanks!\n \nBake sale items will be available for auction! Cash only\, please. \n \nThe Hay Lake School was constructed of brick in 1896 and held classes until 1963. After that\, the Washington County Historical Society purchased the school in 1978 and has been a public museum ever since. The school is on the National Register of Historic Places.\nThe Hay Lake School Museum & Johannes Erickson Log House Museum are located at 14020 195th St N\, Marine on St Croix\, MN 55047.\n \nPlease contact Susan Stepka at Susan.stepka@wchsmn.org or 651-433-4014 with any questions regarding this event or to schedule a tour of the museum. 
URL:https://www.wchsmn.org/event/harvest-fest-beer-tasting-and-silent-auction-at-hay-lake-school/
LOCATION:Hay Lake School\, 14020 195th St N\, Marine on St. Croix\, MN\, 55047
CATEGORIES:Hay Lake School & Erickson Log Home
ORGANIZER;CN="Hay Lake School and Erickson Log Home":MAILTO:susan.stepka@wchsmn.org
END:VEVENT
BEGIN:VEVENT
DTSTART;TZID=America/Chicago:20240914T120000
DTEND;TZID=America/Chicago:20240914T160000
DTSTAMP:20260424T201800
CREATED:20240711T161124Z
LAST-MODIFIED:20240829T170329Z
UID:9099-1726315200-1726329600@www.wchsmn.org
SUMMARY:Rural Schoolhouse Reunion
DESCRIPTION:  \nAfter the Rural Schoolhouse Reunion\, continue the fun by heading over to Hugo to support the Hopkins Schoolhouse + Heritage Center! Register below and contact hopkinsschoolhouse.heritagecenter@gmail.com for more information. 
URL:https://www.wchsmn.org/event/rural-schoolhouse-reunion/
LOCATION:Hay Lake School\, 14020 195th St N\, Marine on St. Croix\, MN\, 55047
CATEGORIES:Hay Lake School & Erickson Log Home
ORGANIZER;CN="Hay Lake School and Erickson Log Home":MAILTO:susan.stepka@wchsmn.org
END:VEVENT
BEGIN:VEVENT
DTSTART;TZID=America/Chicago:20240707T160000
DTEND;TZID=America/Chicago:20240707T170000
DTSTAMP:20260424T201800
CREATED:20240323T161359Z
LAST-MODIFIED:20240625T192333Z
UID:8836-1720368000-1720371600@www.wchsmn.org
SUMMARY:"Scandia softball: past and present" with Dan Lindgren
DESCRIPTION:Greg Benson\, second from left\, was inducted to the Minnesota Hall of Fame. In the 1990s Greg’s three sons Mike\, Josh\, and Ryan Benson playing in the Minnesota State Tournament. From left\, Mike\, Greg\, Josh\, and Ryan. Photo courtesy of Dan Lindgren \nPlay ball! \nDan Lindgren\, Forest Lake High School grad and full-time player on Scandia’s fastpitch softball teams from 1980 to 2000\, will be presenting all things Scandia softball! \nLearn the stories about local legends like\,” dominant arm of Jim Lindberg\,” the “powerful bat of Greg Benson (Lester’s son)\,” and how Greg Isaacson “led his team to a state title in 1987\, a year that included Scandia’s first trip to a national tournament.” (quotes taken from Dan’s recent article in the Forest Lake Times. \nCheck out the article here! \nThe event will be held either inside Hay Lake School or outside on the lawn\, depending on weather. See you there!
URL:https://www.wchsmn.org/event/scandiabaseball/
LOCATION:Hay Lake School\, 14020 195th St N\, Marine on St. Croix\, MN\, 55047
CATEGORIES:Hay Lake School & Erickson Log Home
ORGANIZER;CN="Hay Lake School and Erickson Log Home":MAILTO:susan.stepka@wchsmn.org
END:VEVENT
BEGIN:VEVENT
DTSTART;TZID=America/Chicago:20240615T160000
DTEND;TZID=America/Chicago:20240615T190000
DTSTAMP:20260424T201800
CREATED:20240323T163726Z
LAST-MODIFIED:20240612T184824Z
UID:8847-1718467200-1718478000@www.wchsmn.org
SUMMARY:17th Annual Beer Tasting at Hay Lake School
DESCRIPTION:For seventeen years\, this event has become the keystone fundraiser for the Washington County Historical Society.  This year the breweries attending are Bent Brewstillery\, Bent Paddle Brewery\, Castle Danger\, Lift Bridge Brewery\, Sierra Nevada Brewery\, Summit Brewery\, Rustic Roots winery and more! \nThe beer is just a part of it; in addition\, there will be a silent auction that includes tickets to the Minnesota Renaissance Festival\, tickets to a St. Paul Saints baseball game\, movie passes from Woodbury 10 Theater\, four green fees from Marsh Oaks Golf Course and signed items from the Minnesota Twins and Vikings. There is much\, much more! \nExtra excitement will be the vintage baseball at the Lions Park next to the Hay Lake School. Vintage Baseball\, played by the rules of 1860\, will start at 2pm and go until 4pm. The reigning Minnesota Vintage Baseball champions\, the St. Croix Base Ball Club\, will be playing against several other clubs for the enjoyment and education of the crowds that will be there. No cost to attend the games\, just bring your own chair and enjoy the event. \nAdmission to the event is $20 per person and participants must be 21 years or older.  All proceeds from this event benefit the Washington County Historical Society. \nThe Hay Lake School was constructed of brick in 1896 and held classes until 1963. After that\, the Washington County Historical Society purchased the school in 1978 and has been a public museum ever since. The school is on the National Register of Historic Places. \nThe Hay Lake School Museum & Johannes Erickson Log House Museum are located at 14020 195th St N\, Marine on St Croix\, MN 55047.  \nPlease contact Susan Stepka at Susan.stepka@wchsmn.org or 651-433-4014 with any questions regarding this event or to schedule a tour of the museum. 
URL:https://www.wchsmn.org/event/beer24/
LOCATION:Hay Lake School\, 14020 195th St N\, Marine on St. Croix\, MN\, 55047
CATEGORIES:Hay Lake School & Erickson Log Home
ORGANIZER;CN="Hay Lake School and Erickson Log Home":MAILTO:susan.stepka@wchsmn.org
END:VEVENT
BEGIN:VEVENT
DTSTART;TZID=America/Chicago:20240514T190000
DTEND;TZID=America/Chicago:20240514T203000
DTSTAMP:20260424T201800
CREATED:20240323T162357Z
LAST-MODIFIED:20240323T163008Z
UID:8838-1715713200-1715718600@www.wchsmn.org
SUMMARY:Hay Lake School Spelling Bee
DESCRIPTION:Come out to Hay Lake School and test your skills with an old-fashioned spelling bee!  \n7-7:30pm – Kids Category (students age 9-14) \n7:30pm – Adult Category (ages 15 and up) \nFree! \nQuestions? Email Susan Stepka at susan.stepka@wchsmn.org
URL:https://www.wchsmn.org/event/spellingbee/
LOCATION:Hay Lake School\, 14020 195th St N\, Marine on St. Croix\, MN\, 55047
CATEGORIES:Hay Lake School & Erickson Log Home
ORGANIZER;CN="Hay Lake School and Erickson Log Home":MAILTO:susan.stepka@wchsmn.org
END:VEVENT
BEGIN:VEVENT
DTSTART;TZID=America/Chicago:20230923T120000
DTEND;TZID=America/Chicago:20230923T160000
DTSTAMP:20260424T201800
CREATED:20230428T174152Z
LAST-MODIFIED:20230627T172551Z
UID:8352-1695470400-1695484800@www.wchsmn.org
SUMMARY:One-Room Schoolhouse Reunion Party
DESCRIPTION:
URL:https://www.wchsmn.org/event/one-room-schoolhouse-reunion-party-2/
LOCATION:Hay Lake School\, 14020 195th St N\, Marine on St. Croix\, MN\, 55047
CATEGORIES:Hay Lake School & Erickson Log Home
ORGANIZER;CN="Hay Lake School and Erickson Log Home":MAILTO:susan.stepka@wchsmn.org
END:VEVENT
BEGIN:VEVENT
DTSTART;TZID=America/Chicago:20230817T190000
DTEND;TZID=America/Chicago:20230817T200000
DTSTAMP:20260424T201800
CREATED:20230712T163809Z
LAST-MODIFIED:20230712T163809Z
UID:8518-1692298800-1692302400@www.wchsmn.org
SUMMARY:Birds of Washington County with Kyle Te Poel
DESCRIPTION:Washington County is home to a wide variety of feathered friends. Kyle Te Poel is a birder and photographer\, and runs Next Bend Birding Tours.\nSince 2008\, Kyle Te Poel has worked in Minnesota\, Maine\, and California as a naturalist\, educator\, park ranger\, and in-the-field bird/environmental researcher. Te Poel has worked with several organizations including the National Park Service\, Sierra Club\, and National Audubon Society.\n \nHe has served as a tour guide at bird festivals\, and have provided lectures\, classes\, and special programming for numerous organizations.\nTe Poel has a master’s degree in outdoor education. He began developing and leading his own tours in 2008\, launching his own touring business in 2016. His website is https://kyletepoel.crevado.com/\n \nThis program is free to the public and no reservations are required.\n\nQuestions? Contact Hay Lake School Site Manager Susan Stepka at susan.stepka@wchsmn.org or 651-433-4014.\n 
URL:https://www.wchsmn.org/event/birding/
LOCATION:Hay Lake School\, 14020 195th St N\, Marine on St. Croix\, MN\, 55047
CATEGORIES:Hay Lake School & Erickson Log Home
ORGANIZER;CN="Hay Lake School and Erickson Log Home":MAILTO:susan.stepka@wchsmn.org
END:VEVENT
BEGIN:VEVENT
DTSTART;TZID=America/Chicago:20230617T160000
DTEND;TZID=America/Chicago:20230617T190000
DTSTAMP:20260424T201800
CREATED:20230424T182437Z
LAST-MODIFIED:20230601T171753Z
UID:8348-1687017600-1687028400@www.wchsmn.org
SUMMARY:16th Annual Beer Tasting and Silent Auction
DESCRIPTION:The Washington County Historical Society is hosting the 16th Annual Beer Tasting and Silent Auction at Hay Lake School! Get ready for a several local breweries on tap\, a silent auction\, and the perfect relaxed setting to celebrate the start of summer.\n \nTickets are $20/person and available day-of only at Hay Lake School.\nAges 21+ only. Rain or shine.\n \nQuestions? Call 651-439-5956. See you there!
URL:https://www.wchsmn.org/event/beertasting23/
LOCATION:Hay Lake School\, 14020 195th St N\, Marine on St. Croix\, MN\, 55047
CATEGORIES:Hay Lake School & Erickson Log Home
ORGANIZER;CN="Hay Lake School and Erickson Log Home":MAILTO:susan.stepka@wchsmn.org
END:VEVENT
BEGIN:VEVENT
DTSTART;TZID=America/Chicago:20221105T120000
DTEND;TZID=America/Chicago:20221105T160000
DTSTAMP:20260424T201800
CREATED:20221018T205820Z
LAST-MODIFIED:20221018T205820Z
UID:7980-1667649600-1667664000@www.wchsmn.org
SUMMARY:Christmas Pictures at Hay Lake School
DESCRIPTION:
URL:https://www.wchsmn.org/event/christmas-pictures-at-hay-lake-school-2/
LOCATION:Hay Lake School\, 14020 195th St N\, Marine on St. Croix\, MN\, 55047
CATEGORIES:Hay Lake School & Erickson Log Home
END:VEVENT
BEGIN:VEVENT
DTSTART;TZID=America/Chicago:20221022T120000
DTEND;TZID=America/Chicago:20221022T160000
DTSTAMP:20260424T201800
CREATED:20221018T205718Z
LAST-MODIFIED:20221018T205718Z
UID:7977-1666440000-1666454400@www.wchsmn.org
SUMMARY:Christmas Pictures at Hay Lake School
DESCRIPTION:
URL:https://www.wchsmn.org/event/christmas-pictures-at-hay-lake-school/
LOCATION:Hay Lake School\, 14020 195th St N\, Marine on St. Croix\, MN\, 55047
CATEGORIES:Hay Lake School & Erickson Log Home
END:VEVENT
BEGIN:VEVENT
DTSTART;TZID=America/Chicago:20221006T190000
DTEND;TZID=America/Chicago:20221006T200000
DTSTAMP:20260424T201800
CREATED:20220913T182808Z
LAST-MODIFIED:20220913T182808Z
UID:7931-1665082800-1665086400@www.wchsmn.org
SUMMARY:Hay Lake Speaker Series: "What I've Learned Running a CSA Farm"
DESCRIPTION:What is a CSA farm? “Community Supported Agriculture consists of a community of individuals who pledge support to a farm operation so that the farmland becomes\, either legally or spiritually\, the community’s farm\, with the growers and consumers providing mutual support and sharing the risks and benefits of food production.”* \n  \nCome out to Hay Lake School’s Speaker Series to learn from CSA farmers in our area! Light refreshments will be served. \n  \nIf it’s cold\, please dress warmly. \nQuestions? Contact Susan Stepka at susan.stepka@wchsmn.org or call 651-433-4014
URL:https://www.wchsmn.org/event/hay-lake-speaker-series-what-ive-learned-running-a-csa-farm/
LOCATION:Hay Lake School\, 14020 195th St N\, Marine on St. Croix\, MN\, 55047
CATEGORIES:Hay Lake School & Erickson Log Home
ORGANIZER;CN="Hay Lake School and Erickson Log Home":MAILTO:susan.stepka@wchsmn.org
END:VEVENT
BEGIN:VEVENT
DTSTART;TZID=America/Chicago:20220924T120000
DTEND;TZID=America/Chicago:20220924T160000
DTSTAMP:20260424T201800
CREATED:20220818T205043Z
LAST-MODIFIED:20220818T205043Z
UID:7788-1664020800-1664035200@www.wchsmn.org
SUMMARY:One-Room Schoolhouse Reunion Party
DESCRIPTION:
URL:https://www.wchsmn.org/event/one-room-schoolhouse-reunion-party/
LOCATION:Hay Lake School\, 14020 195th St N\, Marine on St. Croix\, MN\, 55047
CATEGORIES:Hay Lake School & Erickson Log Home
END:VEVENT
BEGIN:VEVENT
DTSTART;TZID=America/Chicago:20220618T160000
DTEND;TZID=America/Chicago:20220618T190000
DTSTAMP:20260424T201800
CREATED:20220422T210701Z
LAST-MODIFIED:20220602T163811Z
UID:4839-1655568000-1655578800@www.wchsmn.org
SUMMARY:Annual WCHS Beer Tasting at Hay Lake School
DESCRIPTION:Bottoms up! The WCHS Annual Beer Tasting will be held at the Hay Lake Museum Complex on Saturday\, June 18 from 4pm to 7pm. Silent auction\, local brews\, and a celebration of our community’s history!  \nCost for beer tasting is $20 \nThis event is geared towards adults 21+. 
URL:https://www.wchsmn.org/event/annual-wchs-beer-tasting-at-hay-lake-school/
LOCATION:Hay Lake School\, 14020 195th St N\, Marine on St. Croix\, MN\, 55047
CATEGORIES:Hay Lake School & Erickson Log Home
END:VEVENT
END:VCALENDAR