BEGIN:VCALENDAR
VERSION:2.0
PRODID:-//Washington County Historical Society - ECPv6.4.0.1//NONSGML v1.0//EN
CALSCALE:GREGORIAN
METHOD:PUBLISH
X-ORIGINAL-URL:https://www.wchsmn.org
X-WR-CALDESC:Events for Washington County Historical Society
REFRESH-INTERVAL;VALUE=DURATION:PT1H
X-Robots-Tag:noindex
X-PUBLISHED-TTL:PT1H
BEGIN:VTIMEZONE
TZID:America/Chicago
BEGIN:DAYLIGHT
TZOFFSETFROM:-0600
TZOFFSETTO:-0500
TZNAME:CDT
DTSTART:20220313T080000
END:DAYLIGHT
BEGIN:STANDARD
TZOFFSETFROM:-0500
TZOFFSETTO:-0600
TZNAME:CST
DTSTART:20221106T070000
END:STANDARD
END:VTIMEZONE
BEGIN:VEVENT
DTSTART;TZID=America/Chicago:20221022T120000
DTEND;TZID=America/Chicago:20221022T160000
DTSTAMP:20260424T214815
CREATED:20221018T205718Z
LAST-MODIFIED:20221018T205718Z
UID:7977-1666440000-1666454400@www.wchsmn.org
SUMMARY:Christmas Pictures at Hay Lake School
DESCRIPTION:
URL:https://www.wchsmn.org/event/christmas-pictures-at-hay-lake-school/
LOCATION:Hay Lake School\, 14020 195th St N\, Marine on St. Croix\, MN\, 55047
CATEGORIES:Hay Lake School & Erickson Log Home
END:VEVENT
BEGIN:VEVENT
DTSTART;TZID=America/Chicago:20221006T190000
DTEND;TZID=America/Chicago:20221006T200000
DTSTAMP:20260424T214815
CREATED:20220913T182808Z
LAST-MODIFIED:20220913T182808Z
UID:7931-1665082800-1665086400@www.wchsmn.org
SUMMARY:Hay Lake Speaker Series: "What I've Learned Running a CSA Farm"
DESCRIPTION:What is a CSA farm? “Community Supported Agriculture consists of a community of individuals who pledge support to a farm operation so that the farmland becomes\, either legally or spiritually\, the community’s farm\, with the growers and consumers providing mutual support and sharing the risks and benefits of food production.”* \n  \nCome out to Hay Lake School’s Speaker Series to learn from CSA farmers in our area! Light refreshments will be served. \n  \nIf it’s cold\, please dress warmly. \nQuestions? Contact Susan Stepka at susan.stepka@wchsmn.org or call 651-433-4014
URL:https://www.wchsmn.org/event/hay-lake-speaker-series-what-ive-learned-running-a-csa-farm/
LOCATION:Hay Lake School\, 14020 195th St N\, Marine on St. Croix\, MN\, 55047
CATEGORIES:Hay Lake School & Erickson Log Home
ORGANIZER;CN="Hay Lake School and Erickson Log Home":MAILTO:susan.stepka@wchsmn.org
END:VEVENT
BEGIN:VEVENT
DTSTART;TZID=America/Chicago:20220924T120000
DTEND;TZID=America/Chicago:20220924T160000
DTSTAMP:20260424T214815
CREATED:20220818T205043Z
LAST-MODIFIED:20220818T205043Z
UID:7788-1664020800-1664035200@www.wchsmn.org
SUMMARY:One-Room Schoolhouse Reunion Party
DESCRIPTION:
URL:https://www.wchsmn.org/event/one-room-schoolhouse-reunion-party/
LOCATION:Hay Lake School\, 14020 195th St N\, Marine on St. Croix\, MN\, 55047
CATEGORIES:Hay Lake School & Erickson Log Home
END:VEVENT
BEGIN:VEVENT
DTSTART;TZID=America/Chicago:20220618T160000
DTEND;TZID=America/Chicago:20220618T190000
DTSTAMP:20260424T214815
CREATED:20220422T210701Z
LAST-MODIFIED:20220602T163811Z
UID:4839-1655568000-1655578800@www.wchsmn.org
SUMMARY:Annual WCHS Beer Tasting at Hay Lake School
DESCRIPTION:Bottoms up! The WCHS Annual Beer Tasting will be held at the Hay Lake Museum Complex on Saturday\, June 18 from 4pm to 7pm. Silent auction\, local brews\, and a celebration of our community’s history!  \nCost for beer tasting is $20 \nThis event is geared towards adults 21+. 
URL:https://www.wchsmn.org/event/annual-wchs-beer-tasting-at-hay-lake-school/
LOCATION:Hay Lake School\, 14020 195th St N\, Marine on St. Croix\, MN\, 55047
CATEGORIES:Hay Lake School & Erickson Log Home
END:VEVENT
END:VCALENDAR