BEGIN:VCALENDAR
VERSION:2.0
PRODID:-//Washington County Historical Society - ECPv6.4.0.1//NONSGML v1.0//EN
CALSCALE:GREGORIAN
METHOD:PUBLISH
X-WR-CALNAME:Washington County Historical Society
X-ORIGINAL-URL:https://www.wchsmn.org
X-WR-CALDESC:Events for Washington County Historical Society
REFRESH-INTERVAL;VALUE=DURATION:PT1H
X-Robots-Tag:noindex
X-PUBLISHED-TTL:PT1H
BEGIN:VTIMEZONE
TZID:America/Chicago
BEGIN:DAYLIGHT
TZOFFSETFROM:-0600
TZOFFSETTO:-0500
TZNAME:CDT
DTSTART:20210314T080000
END:DAYLIGHT
BEGIN:STANDARD
TZOFFSETFROM:-0500
TZOFFSETTO:-0600
TZNAME:CST
DTSTART:20211107T070000
END:STANDARD
BEGIN:DAYLIGHT
TZOFFSETFROM:-0600
TZOFFSETTO:-0500
TZNAME:CDT
DTSTART:20220313T080000
END:DAYLIGHT
BEGIN:STANDARD
TZOFFSETFROM:-0500
TZOFFSETTO:-0600
TZNAME:CST
DTSTART:20221106T070000
END:STANDARD
BEGIN:DAYLIGHT
TZOFFSETFROM:-0600
TZOFFSETTO:-0500
TZNAME:CDT
DTSTART:20230312T080000
END:DAYLIGHT
BEGIN:STANDARD
TZOFFSETFROM:-0500
TZOFFSETTO:-0600
TZNAME:CST
DTSTART:20231105T070000
END:STANDARD
BEGIN:DAYLIGHT
TZOFFSETFROM:-0600
TZOFFSETTO:-0500
TZNAME:CDT
DTSTART:20240310T080000
END:DAYLIGHT
BEGIN:STANDARD
TZOFFSETFROM:-0500
TZOFFSETTO:-0600
TZNAME:CST
DTSTART:20241103T070000
END:STANDARD
END:VTIMEZONE
BEGIN:VEVENT
DTSTART;TZID=America/Chicago:20240512T130000
DTEND;TZID=America/Chicago:20240512T170000
DTSTAMP:20260424T154159
CREATED:20240426T201628Z
LAST-MODIFIED:20240426T201628Z
UID:8939-1715518800-1715533200@www.wchsmn.org
SUMMARY:Mother's Day at the Warden's House
DESCRIPTION:Calista Delano with her son Lewis (born -1866) \n  \nHappy Mother’s Day! \nBring your mother/grandmother/other special mom figure in your life to the Warden’s House Museum and your mom will receive FREE ADMISSION for the tour!\nMother’s Day is Sunday\, May 12 and the Warden’s House Museum tours are at 1pm\, 2pm\, 3pm\, and 4pm.  \n*Regular tour rates apply for other non-mom guests – $8/adults\, $3/ages 6-17
URL:https://www.wchsmn.org/event/mothers-day-at-the-wardens-house/
LOCATION:Warden’s House Museum\, 602 Main Street North\, Stillwater\, MN\, 55082\, United States
CATEGORIES:Warden's House Museum
END:VEVENT
BEGIN:VEVENT
DTSTART;TZID=America/Chicago:20240510T190000
DTEND;TZID=America/Chicago:20240510T200000
DTSTAMP:20260424T154159
CREATED:20240426T203846Z
LAST-MODIFIED:20240426T204314Z
UID:8942-1715367600-1715371200@www.wchsmn.org
SUMMARY:First Prison Warden's Descendant Speaks on His Legacy
DESCRIPTION:Francis Delano \n\n \nCome and learn about the life and times of the Delanos before\, during\, and after Francis Roach Delano was appointed the first Warden at the MN territorial prison (1853-1858).  Tom Delano\, great great grandson of Warden Francis Delano will be giving a presentation about F. R. and Calista Delano at the Warden’s house on Friday\, May 10 at 7pm.\n \nSee some heirlooms generously donated to the Warden’s House Museum\, and hear how the family fits in to America’s history – from the Boston tea party to the New Deal.\n \nThis event is free and in-person only at the Warden’s House Museum. No registration is required.\n \n\nTom Delano
URL:https://www.wchsmn.org/event/delano/
LOCATION:Warden’s House Museum\, 602 Main Street North\, Stillwater\, MN\, 55082\, United States
CATEGORIES:Warden's House Museum
END:VEVENT
BEGIN:VEVENT
DTSTART;TZID=America/Chicago:20240428T120000
DTEND;TZID=America/Chicago:20240428T160000
DTSTAMP:20260424T154159
CREATED:20240328T155146Z
LAST-MODIFIED:20240329T201416Z
UID:8855-1714305600-1714320000@www.wchsmn.org
SUMMARY:Warden's House Museum Open House
DESCRIPTION:The Warden’s House Museum will be open from noon to 4 PM at no charge to check out the new exhibits and talk with knowledgeable volunteers!\nWe have TWO big things to celebrate this season – the 83rd year of the Warden’s House operating as a museum\, and the 175th Birthday for Washington County! Refreshments and all the festive birthday trimmings are in store for the day.\nCome help us kick off the season and see what is new this year at the Warden’s House!\nParking \nLimited parking is located behind the Warden’s House and overflow parking is located across the street in the parking lot next to the walking trail and the Zephyr Theatre/River Grove Elementary. \nThe handicapped accessible entrance is located behind the house. Guests are welcome to drop off behind the building and park elsewhere as needed. \nContact\nFor more information\, contact Heidi Heinze at 651-439-5956 or heidi.heinze@wchsmn.org \nAbout the Warden’s House Museum:\nThe Warden’s House opened as a part of the new Minnesota Territorial Prison in 1853. Over time\, 13 Warden’s lived in the house until 1914. After that\, A superintendent of the Prison\, Thomas Ross\, and his family lived there until 1941 when the Washington County Historical Society purchase the home from the state and opened it as the second house museum in Minnesota that year. The museum demonstrates the history not only of Stillwater’s infamous prison\, but also the history of Washington County.
URL:https://www.wchsmn.org/event/wardens-house-museum-open-house/
LOCATION:Warden’s House Museum\, 602 Main Street North\, Stillwater\, MN\, 55082\, United States
CATEGORIES:Warden's House Museum
END:VEVENT
BEGIN:VEVENT
DTSTART;TZID=America/Chicago:20240414T140000
DTEND;TZID=America/Chicago:20240414T160000
DTSTAMP:20260424T154159
CREATED:20240329T195906Z
LAST-MODIFIED:20240329T203737Z
UID:8864-1713103200-1713110400@www.wchsmn.org
SUMMARY:Warden's House Museum Volunteer Training
DESCRIPTION:Get acquainted with the Warden’s House Museum and see what’s new for 2024! \nNew tour guides wanting to learn more and experienced tour guides wanting some refreshers are all welcome. 
URL:https://www.wchsmn.org/event/wardens-house-volunteer-training/
LOCATION:Warden’s House Museum\, 602 Main Street North\, Stillwater\, MN\, 55082\, United States
CATEGORIES:Warden's House Museum
END:VEVENT
BEGIN:VEVENT
DTSTART;TZID=America/Chicago:20240411T100000
DTEND;TZID=America/Chicago:20240411T140000
DTSTAMP:20260424T154159
CREATED:20240329T202113Z
LAST-MODIFIED:20240329T202113Z
UID:8878-1712829600-1712844000@www.wchsmn.org
SUMMARY:Spring Cleaning at the Warden's House Museum
DESCRIPTION:Spring cleaning – let’s get the house spruced up for the season! \nThere are three cleaning dates: \nTuesday April 9 from 10-2\nWednesday April 10 from 10-2\nThursday April 11 from 10-2\n \nNew tour guides wanting to learn more about the Warden’s House and experienced tour guides are all welcome!
URL:https://www.wchsmn.org/event/spring-cleaning-at-the-wardens-house-museum-2/
LOCATION:Warden’s House Museum\, 602 Main Street North\, Stillwater\, MN\, 55082\, United States
CATEGORIES:Warden's House Museum
END:VEVENT
BEGIN:VEVENT
DTSTART;TZID=America/Chicago:20240410T100000
DTEND;TZID=America/Chicago:20240410T140000
DTSTAMP:20260424T154159
CREATED:20240329T201906Z
LAST-MODIFIED:20240329T202031Z
UID:8873-1712743200-1712757600@www.wchsmn.org
SUMMARY:Spring Cleaning at the Warden's House Museum
DESCRIPTION:Spring cleaning – let’s get the house spruced up for the season! \nThere are three cleaning dates: \nTuesday April 9 from 10-2\nWednesday April 10 from 10-2\nThursday April 11 from 10-2\n \nNew tour guides wanting to learn more about the Warden’s House and experienced tour guides are all welcome!
URL:https://www.wchsmn.org/event/spring-cleaning-at-the-wardens-house-museum/
LOCATION:Warden’s House Museum\, 602 Main Street North\, Stillwater\, MN\, 55082\, United States
CATEGORIES:Warden's House Museum
END:VEVENT
BEGIN:VEVENT
DTSTART;TZID=America/Chicago:20240409T100000
DTEND;TZID=America/Chicago:20240409T140000
DTSTAMP:20260424T154159
CREATED:20240329T201811Z
LAST-MODIFIED:20240329T201941Z
UID:8870-1712656800-1712671200@www.wchsmn.org
SUMMARY:Spring Cleaning at the Warden's House Museum
DESCRIPTION:Spring cleaning – let’s get the house spruced up for the season! \nThere are three cleaning dates: \nTuesday April 9 from 10-2\nWednesday April 10 from 10-2\nThursday April 11 from 10-2
URL:https://www.wchsmn.org/event/spring-cleaning-at-the-wardens-house/
LOCATION:Warden’s House Museum\, 602 Main Street North\, Stillwater\, MN\, 55082\, United States
CATEGORIES:Warden's House Museum
END:VEVENT
BEGIN:VEVENT
DTSTART;TZID=America/Chicago:20230525T190000
DTEND;TZID=America/Chicago:20230525T200000
DTSTAMP:20260424T154159
CREATED:20230429T205409Z
LAST-MODIFIED:20230512T194407Z
UID:8361-1685041200-1685044800@www.wchsmn.org
SUMMARY:Antique Musical Instruments of the Warden's House Museum
DESCRIPTION:WCHS volunteer\, musician\, and historian Mike Frain will give a musical tour of the phonographs\, record players\, and music boxes at the Warden’s House. Come and enjoy the sound of a bygone era and learn how the machines work! \nAttend in-person at the Warden’s House Museum
URL:https://www.wchsmn.org/event/antique-musical-instruments-of-the-wardens-house-museum/
LOCATION:Warden’s House Museum\, 602 Main Street North\, Stillwater\, MN\, 55082\, United States
CATEGORIES:Warden's House Museum
END:VEVENT
BEGIN:VEVENT
DTSTART;TZID=America/Chicago:20230511T190000
DTEND;TZID=America/Chicago:20230511T200000
DTSTAMP:20260424T154159
CREATED:20230201T192223Z
LAST-MODIFIED:20230201T192223Z
UID:8183-1683831600-1683835200@www.wchsmn.org
SUMMARY:At the Warden's House: Schubert Club at 140: Concerts\, Collections\, Community with Barry Kempton
DESCRIPTION:Barry Kempton\, Artistic & Executive Director of the Schubert Club\, will give an illustrated talk about Minnesota’s oldest arts organization\, its programs and guest musicians over the years and its Music Museum featuring keyboard instruments\, composer letters and the “Music Makers Zone”.  \n \nAbout the Schubert Club: \nSince 1893\, Schubert Club has invited the world’s great recital soloists and ensembles to the Twin Cities and has promoted the superb musical talents of our community through performances\, education\, and museum programs. One of the first arts organizations in the country\, Schubert Club remains today one of the nation’s most vibrant\, relevant\, and respected music organizations. \nSchubert Club’s INTERNATIONAL ARTIST SERIES has presented many of the world’s great recitalists including Jascha Heifetz\, Arthur Rubinstein\, Cecilia Bartoli\, Isaac Stern\, Beverly Sills\, Dietrich Fischer-Dieskau\, Leontyne Price\, Yo-Yo Ma\, and Renée Fleming to name a few. \nQuestions? Contact Warden’s House Site Manager Julianne O’Connell at julianne.oconnell@wchsmn.org  \n 
URL:https://www.wchsmn.org/event/schubert/
LOCATION:Warden’s House Museum\, 602 Main Street North\, Stillwater\, MN\, 55082\, United States
CATEGORIES:Warden's House Museum
END:VEVENT
BEGIN:VEVENT
DTSTART;TZID=America/Chicago:20230430T130000
DTEND;TZID=America/Chicago:20230430T170000
DTSTAMP:20260424T154159
CREATED:20230414T181635Z
LAST-MODIFIED:20230414T200643Z
UID:8306-1682859600-1682874000@www.wchsmn.org
SUMMARY:Open House at the Warden's House Museum
DESCRIPTION:The Washington County Historical Society is excited to announce the special open house celebrating the 170 years of the Warden’s House on North Main Street in Stillwater! \nAdmission is FREE for the afternoon! \nEvents include live music from 1-3pm from singer Hilary Thavis and Musician Doug Otto. Hilary will sing sections of blues numbers—fitting for life in a prison. Hilary Thavis is a Prairie Home Companion Alum 2010-2015. \nThe Warden’s House is full of household items donated by Washington County residents. Many of these every day pieces came from Sears\, Roebuck and Company\, founded as a mail-order watch company in the late 19th century\, made its name with its packed catalogs that advertised everything from wigs\, dental tools\, and live chicks to entire house kits. Come in and see what has been found and you might recognize items from Sears in your possession \nTime \n1pm-5pm \nLocation \nThe Warden’s House is located at 602 N. Main Street\, Stillwater. \nParking \nLimited parking is located behind the Warden’s House and overflow parking is located across the street in the parking lot next to the walking trail and the Zephyr Theatre. \nThe handicapped accessible entrance is located behind the house. Guests are welcome to drop off behind the building and park elsewhere as needed. \nContact\nFor more information\, contact Julianne O’Connell at 651-439-5956 or julianne.oconnell@wchsmn.org  \n  \nAbout the Warden’s House Museum:\nThe Warden’s House opened as a part of the new Minnesota Territorial Prison in 1853. Over time\, 13 Warden’s lived in the house until 1914. After that\, A superintendent of the Prison\, Thomas Ross\, and his family lived there until 1941 when the Washington County Historical Society purchase the home from the state and opened it as the second house museum in Minnesota that year. The museum demonstrates the history not only of Stillwater’s infamous prison\, but also the history of Washington County.
URL:https://www.wchsmn.org/event/open-house-at-the-wardens-house-museum/
LOCATION:Warden’s House Museum\, 602 Main Street North\, Stillwater\, MN\, 55082\, United States
CATEGORIES:Warden's House Museum
END:VEVENT
BEGIN:VEVENT
DTSTART;TZID=America/Chicago:20221216T090000
DTEND;TZID=America/Chicago:20221216T130000
DTSTAMP:20260424T154159
CREATED:20220923T210204Z
LAST-MODIFIED:20220923T213507Z
UID:7957-1671181200-1671195600@www.wchsmn.org
SUMMARY:Warden's House Winter Cleaning Party
DESCRIPTION:TLC the Warden’s Winter Cleaning Parties!  Join Warden House site manager Julianne to help clean the Warden’s Home.  November 4th\, 6th\, 11th\, 20th and December 5th\, 9th\, 11th\, 16th.\n \nOn each date\, we’ll pick one of the original rooms to clean.  Coffee and hot chocolate will be provided and all cleaning materials will be provided.  
URL:https://www.wchsmn.org/event/wardens-house-winter-cleaning-party-7/
LOCATION:Warden’s House Museum\, 602 Main Street North\, Stillwater\, MN\, 55082\, United States
CATEGORIES:Warden's House Museum
END:VEVENT
BEGIN:VEVENT
DTSTART;TZID=America/Chicago:20221211T090000
DTEND;TZID=America/Chicago:20221211T130000
DTSTAMP:20260424T154159
CREATED:20220923T210137Z
LAST-MODIFIED:20220923T213522Z
UID:7955-1670749200-1670763600@www.wchsmn.org
SUMMARY:Warden's House Winter Cleaning Party
DESCRIPTION:TLC the Warden’s Winter Cleaning Parties!  Join Warden House site manager Julianne to help clean the Warden’s Home.  November 4th\, 6th\, 11th\, 20th and December 5th\, 9th\, 11th\, 16th.\n \nOn each date\, we’ll pick one of the original rooms to clean.  Coffee and hot chocolate will be provided and all cleaning materials will be provided.  
URL:https://www.wchsmn.org/event/wardens-house-winter-cleaning-party-6/
LOCATION:Warden’s House Museum\, 602 Main Street North\, Stillwater\, MN\, 55082\, United States
CATEGORIES:Warden's House Museum
END:VEVENT
BEGIN:VEVENT
DTSTART;TZID=America/Chicago:20221209T090000
DTEND;TZID=America/Chicago:20221209T130000
DTSTAMP:20260424T154159
CREATED:20220923T210117Z
LAST-MODIFIED:20220923T213632Z
UID:7953-1670576400-1670590800@www.wchsmn.org
SUMMARY:Warden's House Winter Cleaning Party
DESCRIPTION:TLC the Warden’s Winter Cleaning Parties!  Join Warden House site manager Julianne to help clean the Warden’s Home.  November 4th\, 6th\, 11th\, 20th and December 5th\, 9th\, 11th\, 16th.\n \nOn each date\, we’ll pick one of the original rooms to clean.  Coffee and hot chocolate will be provided and all cleaning materials will be provided.  
URL:https://www.wchsmn.org/event/wardens-house-winter-cleaning-party-5/
LOCATION:Warden’s House Museum\, 602 Main Street North\, Stillwater\, MN\, 55082\, United States
CATEGORIES:Warden's House Museum
END:VEVENT
BEGIN:VEVENT
DTSTART;TZID=America/Chicago:20221205T090000
DTEND;TZID=America/Chicago:20221205T130000
DTSTAMP:20260424T154159
CREATED:20220923T210054Z
LAST-MODIFIED:20220923T213648Z
UID:7951-1670230800-1670245200@www.wchsmn.org
SUMMARY:Warden's House Winter Cleaning Party
DESCRIPTION:TLC the Warden’s Winter Cleaning Parties!  Join Warden House site manager Julianne to help clean the Warden’s Home.  November 4th\, 6th\, 11th\, 20th and December 5th\, 9th\, 11th\, 16th.\n \nOn each date\, we’ll pick one of the original rooms to clean.  Coffee and hot chocolate will be provided and all cleaning materials will be provided.  
URL:https://www.wchsmn.org/event/wardens-house-winter-cleaning-party-4/
LOCATION:Warden’s House Museum\, 602 Main Street North\, Stillwater\, MN\, 55082\, United States
CATEGORIES:Warden's House Museum
END:VEVENT
BEGIN:VEVENT
DTSTART;TZID=America/Chicago:20221111T090000
DTEND;TZID=America/Chicago:20221111T130000
DTSTAMP:20260424T154159
CREATED:20220923T210030Z
LAST-MODIFIED:20220923T214008Z
UID:7949-1668157200-1668171600@www.wchsmn.org
SUMMARY:Warden's House Winter Cleaning Party
DESCRIPTION:TLC the Warden’s Winter Cleaning Parties!  Join Warden House site manager Julianne to help clean the Warden’s Home.  November 4th\, 6th\, 11th\, 20th and December 5th\, 9th\, 11th\, 16th.\n \nOn each date\, we’ll pick one of the original rooms to clean.  Coffee and hot chocolate will be provided and all cleaning materials will be provided.  
URL:https://www.wchsmn.org/event/wardens-house-winter-cleaning-party-3/
LOCATION:Warden’s House Museum\, 602 Main Street North\, Stillwater\, MN\, 55082\, United States
CATEGORIES:Warden's House Museum
END:VEVENT
BEGIN:VEVENT
DTSTART;TZID=America/Chicago:20221106T090000
DTEND;TZID=America/Chicago:20221106T130000
DTSTAMP:20260424T154159
CREATED:20220923T210008Z
LAST-MODIFIED:20220923T213952Z
UID:7947-1667725200-1667739600@www.wchsmn.org
SUMMARY:Warden's House Winter Cleaning Party
DESCRIPTION:TLC the Warden’s Winter Cleaning Parties!  Join Warden House site manager Julianne to help clean the Warden’s Home.  November 4th\, 6th\, 11th\, 20th and December 5th\, 9th\, 11th\, 16th.\n \nOn each date\, we’ll pick one of the original rooms to clean.  Coffee and hot chocolate will be provided and all cleaning materials will be provided.  
URL:https://www.wchsmn.org/event/wardens-house-winter-cleaning-party-2/
LOCATION:Warden’s House Museum\, 602 Main Street North\, Stillwater\, MN\, 55082\, United States
CATEGORIES:Warden's House Museum
END:VEVENT
BEGIN:VEVENT
DTSTART;TZID=America/Chicago:20221104T090000
DTEND;TZID=America/Chicago:20221104T130000
DTSTAMP:20260424T154159
CREATED:20220923T205940Z
LAST-MODIFIED:20220923T213448Z
UID:7944-1667552400-1667566800@www.wchsmn.org
SUMMARY:Warden's House Winter Cleaning Party
DESCRIPTION:TLC the Warden’s Winter Cleaning Parties!  Join Warden House site manager Julianne to help clean the Warden’s Home.  November 4th\, 6th\, 11th\, 20th and December 5th\, 9th\, 11th\, 16th.\n \nOn each date\, we’ll pick one of the original rooms to clean.  Coffee and hot chocolate will be provided and all cleaning materials will be provided.  
URL:https://www.wchsmn.org/event/wardens-house-winter-cleaning-party/
LOCATION:Warden’s House Museum\, 602 Main Street North\, Stillwater\, MN\, 55082\, United States
CATEGORIES:Warden's House Museum
END:VEVENT
BEGIN:VEVENT
DTSTART;TZID=America/Chicago:20221031T080000
DTEND;TZID=America/Chicago:20221031T170000
DTSTAMP:20260424T154159
CREATED:20220923T205735Z
LAST-MODIFIED:20221019T194330Z
UID:7940-1667203200-1667235600@www.wchsmn.org
SUMMARY:Flashlight Tours at the Warden's House
DESCRIPTION:Back for 2022! Our tour guides are very excited to take you through our favorite House for spooky season. \n  \nTours are at 4pm\, 5:30pm and 7:00pm. \n  \nPrice: $8/adults\, $3/children ages 6-17. Tickets available day-of on a first come\, first served basis. \n  \nSite Manager Julianne O’Connell will present a PowerPoint that is about 10 minutes long to set the mood for the tours that evening.
URL:https://www.wchsmn.org/event/flashlight-tours-at-the-wardens-house/
LOCATION:Warden’s House Museum\, 602 Main Street North\, Stillwater\, MN\, 55082\, United States
CATEGORIES:Warden's House Museum
END:VEVENT
BEGIN:VEVENT
DTSTART;TZID=America/Chicago:20221022T160000
DTEND;TZID=America/Chicago:20221022T170000
DTSTAMP:20260424T154159
CREATED:20220901T175424Z
LAST-MODIFIED:20220906T181417Z
UID:7887-1666454400-1666458000@www.wchsmn.org
SUMMARY:Johnsdale Paranormal Group Program- 4PM
DESCRIPTION: \nIn August\, the Johnsdale Paranormal Group conducted their first investigation at the Warden’s House since 2019. What a night! After just a short time in the home\, the group declared it to be “the most active night they have ever experienced.”\n \nCome and find out what happened this year at the Warden’s House!\nClick here to purchase your ticket for the 4PM program.\nYou will receive an email confirmation after completing your purchase. Please bring your email confirmation to the event\, either on your phone or printed. If you do not receive an email confirmation or have questions\, please contact us at 651-439-2298. 
URL:https://www.wchsmn.org/event/johnsdale-paranormal-group-4pm/
LOCATION:Warden’s House Museum\, 602 Main Street North\, Stillwater\, MN\, 55082\, United States
CATEGORIES:Warden's House Museum
END:VEVENT
BEGIN:VEVENT
DTSTART;TZID=America/Chicago:20220707T180000
DTEND;TZID=America/Chicago:20220707T190000
DTSTAMP:20260424T154159
CREATED:20220603T165928Z
LAST-MODIFIED:20220628T184616Z
UID:4957-1657216800-1657220400@www.wchsmn.org
SUMMARY:St. Croix River and the National Park Boundary with Daniel Peterson
DESCRIPTION:  \n \nThe river has made our county what it is today! Daniel Peterson will be at the Warden’s House Museum to discuss things to do in and on the river within the National Park Boundary.\n \nPeterson is the Saint Croix River District Ranger at Saint Croix National Scenic Riverway. Over the course of his 25-year career\, Dan has paddled his career along several scenic roads including the World Bird Sanctuary in Missouri and for the U.S. Fish and Wildlife Service as a Wildlife Refuge Specialist in Arizona and Visitor Services Specialist in Wisconsin. Dan has also worked for the National Park Service at Grand Canyon\, Badlands\, Crater Lake\, Voyageurs National Parks\, and most recently at the Missouri National Recreational River located along the state borders of Nebraska and South Dakota. He’s an avid birder\, hiker\, and paddler.\n \nZOOM INFO:\n\nRegister in advance for this meeting:\nhttps://us02web.zoom.us/meeting/register/tZ0tce2tqjIvH9ZQRy1d1BkqRuH8TJmO6Mz3 \nAfter registering\, you will receive a confirmation email containing information about joining the meeting.
URL:https://www.wchsmn.org/event/rivernps/
LOCATION:Warden’s House Museum\, 602 Main Street North\, Stillwater\, MN\, 55082\, United States
CATEGORIES:Warden's House Museum
END:VEVENT
BEGIN:VEVENT
DTSTART;TZID=America/Chicago:20220602T180000
DTEND;TZID=America/Chicago:20220602T190000
DTSTAMP:20260424T154159
CREATED:20220526T164809Z
LAST-MODIFIED:20220806T180922Z
UID:4937-1654192800-1654196400@www.wchsmn.org
SUMMARY:Bison Reintroduction at Belwin Conservancy with Lynette Anderson
DESCRIPTION:EVENT INFO \nAt Belwin Conservancy\, American bison (Bison bison) play an important role in the health of the prairie. Since 2008\, a herd of juvenile males from Northstar Bison has taken up summer residence at one of our tallgrass prairie restorations. Their presence has been transformative. \nToday\, the balance and abundance of wildlife\, grasses\, and flowers on Belwin’s bison prairie is second to none\, thanks to this majestic creature. Belwin Restoration Specialist Lynette Anderson explains: “their grazing patterns promote the growth of different flowers\, which brings in different insects\, which bring in different birds\, and so on and so forth. And that’s the importance of disturbance on a prairie: to keep this vital\, dynamic\, beautiful habitat going.” – Belwin Conservatory
URL:https://www.wchsmn.org/event/bison/
LOCATION:Warden’s House Museum\, 602 Main Street North\, Stillwater\, MN\, 55082\, United States
CATEGORIES:Warden's House Museum
END:VEVENT
BEGIN:VEVENT
DTSTART;TZID=America/Chicago:20220522T120000
DTEND;TZID=America/Chicago:20220522T170000
DTSTAMP:20260424T154159
CREATED:20220422T205757Z
LAST-MODIFIED:20220506T161640Z
UID:4837-1653220800-1653238800@www.wchsmn.org
SUMMARY:Stillwater Historic Homes Tour
DESCRIPTION:Join us for the 2022 Stillwater Historic Homes Tour on Sunday\, May 22 from 12pm-5pm! Nine beautiful and unique homes nestled into the hills of Stillwater will be opening their doors to share hospitality and history. \nTickets will be held at will call located at the Warden’s House Museum (602 N Main St). The Warden’s House will be on the tour! Please bring a photo ID to claim your tickets. \nRain or shine. All sales are final. \nClick here to purchase your tickets! \n  \n  \n 
URL:https://www.wchsmn.org/event/homes/
LOCATION:Warden’s House Museum\, 602 Main Street North\, Stillwater\, MN\, 55082\, United States
CATEGORIES:Warden's House Museum
END:VEVENT
BEGIN:VEVENT
DTSTART;TZID=America/Chicago:20211031T200000
DTEND;TZID=America/Chicago:20211031T230000
DTSTAMP:20260424T154159
CREATED:20211005T183048Z
LAST-MODIFIED:20211005T184928Z
UID:3921-1635710400-1635721200@www.wchsmn.org
SUMMARY:Flashlight Tours - 7pm\, 8pm\, 9pm\, and 10pm
DESCRIPTION:It’s spooky season – the perfect time to grab a flashlight and take an after-dark tour of the Warden’s House! Watch your back – our ghosts may be out to play! Flashlights will be provided. \nTickets available online only at WCHS Store under the Membership & Tickets tab
URL:https://www.wchsmn.org/event/flashlight-tours-7pm-8pm-9pm-and-10pm-2/
LOCATION:Warden’s House Museum\, 602 Main Street North\, Stillwater\, MN\, 55082\, United States
CATEGORIES:Warden's House Museum
END:VEVENT
BEGIN:VEVENT
DTSTART;TZID=America/Chicago:20211030T200000
DTEND;TZID=America/Chicago:20211030T210000
DTSTAMP:20260424T154159
CREATED:20211005T183615Z
LAST-MODIFIED:20211005T185126Z
UID:3925-1635624000-1635627600@www.wchsmn.org
SUMMARY:Johnsdale Paranormal Group - 8pm
DESCRIPTION:So\, is the Warden’s House *really* haunted? Come to this event to find out! Johnsdale Paranormal Group from Onamia\, MN be giving two presentations on their closest\, creepiest encounters with unexplained phenomena at the Warden’s House and around the country. \n\n\n\n\nTickets available online only at WCHS Store under the Membership & Tickets tab
URL:https://www.wchsmn.org/event/johnsdale-paranormal-group-2/
LOCATION:Warden’s House Museum\, 602 Main Street North\, Stillwater\, MN\, 55082\, United States
CATEGORIES:Warden's House Museum
END:VEVENT
BEGIN:VEVENT
DTSTART;TZID=America/Chicago:20211030T180000
DTEND;TZID=America/Chicago:20211030T190000
DTSTAMP:20260424T154159
CREATED:20211005T183329Z
LAST-MODIFIED:20211005T185153Z
UID:3923-1635616800-1635620400@www.wchsmn.org
SUMMARY:Johnsdale Paranormal Group - 6pm
DESCRIPTION:So\, is the Warden’s House *really* haunted? Come to this event to find out! Johnsdale Paranormal Group from Onamia\, MN will be giving two presentations on their closest\, creepiest encounters with unexplained phenomena at the Warden’s House and around the country. \nTickets available online only at WCHS Store under the Membership & Tickets tab
URL:https://www.wchsmn.org/event/johnsdale-paranormal-group/
LOCATION:Warden’s House Museum\, 602 Main Street North\, Stillwater\, MN\, 55082\, United States
CATEGORIES:Warden's House Museum
END:VEVENT
BEGIN:VEVENT
DTSTART;TZID=America/Chicago:20211029T190000
DTEND;TZID=America/Chicago:20211029T230000
DTSTAMP:20260424T154159
CREATED:20211005T182948Z
LAST-MODIFIED:20211005T185001Z
UID:3919-1635534000-1635548400@www.wchsmn.org
SUMMARY:Flashlight Tours - 7pm\, 8pm\, 9pm\, and 10pm
DESCRIPTION:It’s spooky season – the perfect time to grab a flashlight and take an after-dark tour of the Warden’s House! Watch your back – our ghosts may be out to play! Flashlights will be provided. \nTickets available online only at WCHS Store under the Membership & Tickets tab
URL:https://www.wchsmn.org/event/flashlight-tours-7pm-8pm-9pm-and-10pm/
LOCATION:Warden’s House Museum\, 602 Main Street North\, Stillwater\, MN\, 55082\, United States
CATEGORIES:Warden's House Museum
END:VEVENT
BEGIN:VEVENT
DTSTART;TZID=America/Chicago:20211028T190000
DTEND;TZID=America/Chicago:20211028T230000
DTSTAMP:20260424T154159
CREATED:20211005T182442Z
LAST-MODIFIED:20211005T185035Z
UID:3915-1635447600-1635462000@www.wchsmn.org
SUMMARY:Flashlight Tours - 7pm\, 8pm\, 9pm\, and 10pm
DESCRIPTION:It’s spooky season – the perfect time to grab a flashlight and take an after-dark tour of the Warden’s House! Watch your back – our ghosts may be out to play! Flashlights will be provided. \nTickets available online only at WCHS Store under the Membership & Tickets tab \n\n 
URL:https://www.wchsmn.org/event/flashlight-tours/
LOCATION:Warden’s House Museum\, 602 Main Street North\, Stillwater\, MN\, 55082\, United States
CATEGORIES:Warden's House Museum
END:VEVENT
END:VCALENDAR