BEGIN:VCALENDAR
VERSION:2.0
PRODID:-//Washington County Historical Society - ECPv6.4.0.1//NONSGML v1.0//EN
CALSCALE:GREGORIAN
METHOD:PUBLISH
X-WR-CALNAME:Washington County Historical Society
X-ORIGINAL-URL:https://www.wchsmn.org
X-WR-CALDESC:Events for Washington County Historical Society
REFRESH-INTERVAL;VALUE=DURATION:PT1H
X-Robots-Tag:noindex
X-PUBLISHED-TTL:PT1H
BEGIN:VTIMEZONE
TZID:America/Chicago
BEGIN:DAYLIGHT
TZOFFSETFROM:-0600
TZOFFSETTO:-0500
TZNAME:CDT
DTSTART:20210314T080000
END:DAYLIGHT
BEGIN:STANDARD
TZOFFSETFROM:-0500
TZOFFSETTO:-0600
TZNAME:CST
DTSTART:20211107T070000
END:STANDARD
BEGIN:DAYLIGHT
TZOFFSETFROM:-0600
TZOFFSETTO:-0500
TZNAME:CDT
DTSTART:20220313T080000
END:DAYLIGHT
BEGIN:STANDARD
TZOFFSETFROM:-0500
TZOFFSETTO:-0600
TZNAME:CST
DTSTART:20221106T070000
END:STANDARD
END:VTIMEZONE
BEGIN:VEVENT
DTSTART;TZID=America/Chicago:20220215T190000
DTEND;TZID=America/Chicago:20220215T210000
DTSTAMP:20260420T061142
CREATED:20220122T182824Z
LAST-MODIFIED:20220727T201549Z
UID:4247-1644951600-1644958800@www.wchsmn.org
SUMMARY:Presentation: Author Ryan Gale on "Shanty Boys: The Lumbermen of the Upper Midwest 1830-1940" and Minnesota north woods musician Brian Miller
DESCRIPTION:  \n \n  \nAuthor Ryan Gale will be discussing everything from logs to legacies in a presentation on his brand-new book\, Shanty Boys: The Lumbermen of the Upper Midwest 1830-1940. Additionally\, musician Brian Miller of The Lost Forty will be performing Irish-influenced songs about Minnesota north woods history and folklore! No reservations needed. Masks are encouraged. \nAbout Shanty Boys: The Lumbermen of the Upper Midwest 1830-1940: \n“The lumbermen who cut and hauled the pine of the upper Midwest between 1830 and 1940 went by many names: lumberjacks\, woodsmen\, and shanty-boys because of the rough shanties they lived in. They endured severe cold\, poor living conditions\, and long isolation for little pay. Lumbermen were revered in their time as symbols of strength\, ruggedness\, and independence. “Shanty Boys: The Lumbermen of the Upper Midwest 1830-1940″ offers a glimpse into the fascinating lives of those hard-working men and shows how they continue to impact our society.” -Ryan Gale \nAbout Brian Miller: \n \nA native of the northern Minnesota town of Bemidji\, Brian Miller has performed extensively throughout the US\, Canada and Ireland with a variety of Irish music groups. With his duo The Lost Forty (and as a soloist) Brian revives and performs Irish-influenced songs of men who roamed the Great Lakes region in the days when pine was king. He is a winner of the Parsons Fund Award from the American Folklife Center at the Library of Congress for his research into this rich but under-explored music.
URL:https://www.wchsmn.org/event/shanty-boys-author-ryan-gale-and-musician-brian-miller/
LOCATION:Washington County Heritage Center\, 1862 South Greeley St\, Stillwater\, MN\, 55082\, United States
END:VEVENT
BEGIN:VEVENT
DTSTART;TZID=America/Chicago:20220208T190000
DTEND;TZID=America/Chicago:20220208T200000
DTSTAMP:20260420T061142
CREATED:20220112T190018Z
LAST-MODIFIED:20220806T174528Z
UID:4073-1644346800-1644350400@www.wchsmn.org
SUMMARY:Presentation: Brent Peterson on Bud Fowler and the 1884 Stillwater Baseball Team
DESCRIPTION:Click the link below to be taken to the Google Drives for both the video recording and the presentation slides. \nThe slides are difficult to see on the video recording. We apologize for the inconvenience. Please view the slides at the link below.  \n \nPresentation Slides:\nGoogle Slides \nEVENT INFO: \nWCHS Executive Director Brent Peterson will be presenting on legendary baseball pitcher Bud Fowler and 1884 Stillwater Baseball team. No reservations needed. Masks are encouraged.  \nAbout Bud Fowler: \nBud Fowler (born John W. Jackson) is considered the first professional black baseball player and pitched his first game in Massachusetts in 1878. A star hitter as well\, fans would applaud whenever he stepped up to the plate. He played in multiple teams across the United States\, including a stint in Stillwater in 1884. Unfortunately\, his professional career was short-lived\, as the minor leagues secretly stopping hiring black players by 1887. \nAfter his minor league career was forced to end due to rampant racism in the league\, Fowler still found a way to play. He became a strong voice for an all-black major league and helped start four new black barnstorming teams: the Page Fence Giants\, the Smokey City Giants\, the All-American Black Tourists\, and Kansas City Stars. He played professionally across fifteen communities during his career\, including stints in Iowa\, Kansas City\, Ohio\, and our own Stillwater\, Minnesota. Following his career\, Fowler moved back to New York and lived out his days as a barber\, a profession he had learned from his father and practiced throughout his life as a way to make ends meet. He passed away in 1913 at the age of 54. In 2021\, Bud Fowler was named as one of the newest inductees to the National Baseball Hall of Fame and will be inducted in 2022.  \n 
URL:https://www.wchsmn.org/event/bud-fowler-and-black-baseball-in-the-st-croix-valley/
LOCATION:Washington County Heritage Center\, 1862 South Greeley St\, Stillwater\, MN\, 55082\, United States
END:VEVENT
BEGIN:VEVENT
DTSTART;TZID=America/Chicago:20220129T120000
DTEND;TZID=America/Chicago:20220129T160000
DTSTAMP:20260420T061142
CREATED:20220104T190214Z
LAST-MODIFIED:20220120T201111Z
UID:4064-1643457600-1643472000@www.wchsmn.org
SUMMARY:Annual Ice Cream Social
DESCRIPTION:It’s one of our favorite events of the year – the annual ice cream social! Come down to Lowell Park in Stillwater and enjoy free ice cream from Leo’s! \n 
URL:https://www.wchsmn.org/event/annual-ice-cream-social/
LOCATION:MN
END:VEVENT
BEGIN:VEVENT
DTSTART;TZID=America/Chicago:20220125T190000
DTEND;TZID=America/Chicago:20220125T201500
DTSTAMP:20260420T061142
CREATED:20220104T184927Z
LAST-MODIFIED:20220125T173710Z
UID:4062-1643137200-1643141700@www.wchsmn.org
SUMMARY:Black & White Movie Night: Buster Keaton films
DESCRIPTION:It’s our very first Black & White movie Night! Dress up in your best black-and-white outfit and come to the Heritage Center for a screening of three Buster Keaton short films: “One Week” (1920)\, “The High Sign” (1921)\, and “The Goat” (1921). No reservations needed. Masks are encouraged.\n\nRetired university professor and film enthusiast Steven Schroer will provide an educational introduction prior to the screening and will host an open discussion for interested participants after the films. \nFree popcorn provided by Woodbury 10 Theatre. \n\n \n\n \n\n 
URL:https://www.wchsmn.org/event/black-and-white-movie-night-buster-keaton-films/
LOCATION:Washington County Heritage Center\, 1862 South Greeley St\, Stillwater\, MN\, 55082\, United States
END:VEVENT
BEGIN:VEVENT
DTSTART;TZID=America/Chicago:20220111T190000
DTEND;TZID=America/Chicago:20220111T203000
DTSTAMP:20260420T061142
CREATED:20220104T184432Z
LAST-MODIFIED:20220104T184514Z
UID:4054-1641927600-1641933000@www.wchsmn.org
SUMMARY:Film Screening: "An Ode to Stillwater: The John Runk Films"
DESCRIPTION:Come out to the Heritage Center and see this rare footage for yourself! Truly\, a “home movie of his home town\,” innovator John Runk shot stunning 8mm films to document the growing community of Stillwater from the late 1940s to the early 1950s. Together with a rich soundtrack\, original narration\, and DVD extras\, they show Stillwater and the St. Croix Valley as they were experienced by the “Greatest Generation.”\nAmong the many distinct historic scenes that Runk took were those of the Marine Ferry Crossing in operation; a Loggers’ baseball game against St. Paul Park; the Stillwater Country Club; Stillwater’s downtown business district just after the end of World War II; Pioneer and Lowell Parks; ice cutting on the St. Croix River and much more.\n \nThis event is free to the public and no reservations are required. DVDs of the documentary will be available for purchase following the program. Masks are encouraged.\n 
URL:https://www.wchsmn.org/event/film-screening-an-ode-to-stillwater-the-john-runk-films/
LOCATION:Washington County Heritage Center\, 1862 South Greeley St\, Stillwater\, MN\, 55082\, United States
END:VEVENT
BEGIN:VEVENT
DTSTART;TZID=America/Chicago:20211031T200000
DTEND;TZID=America/Chicago:20211031T230000
DTSTAMP:20260420T061142
CREATED:20211005T183048Z
LAST-MODIFIED:20211005T184928Z
UID:3921-1635710400-1635721200@www.wchsmn.org
SUMMARY:Flashlight Tours - 7pm\, 8pm\, 9pm\, and 10pm
DESCRIPTION:It’s spooky season – the perfect time to grab a flashlight and take an after-dark tour of the Warden’s House! Watch your back – our ghosts may be out to play! Flashlights will be provided. \nTickets available online only at WCHS Store under the Membership & Tickets tab
URL:https://www.wchsmn.org/event/flashlight-tours-7pm-8pm-9pm-and-10pm-2/
LOCATION:Warden’s House Museum\, 602 Main Street North\, Stillwater\, MN\, 55082\, United States
CATEGORIES:Warden's House Museum
END:VEVENT
BEGIN:VEVENT
DTSTART;TZID=America/Chicago:20211030T200000
DTEND;TZID=America/Chicago:20211030T210000
DTSTAMP:20260420T061142
CREATED:20211005T183615Z
LAST-MODIFIED:20211005T185126Z
UID:3925-1635624000-1635627600@www.wchsmn.org
SUMMARY:Johnsdale Paranormal Group - 8pm
DESCRIPTION:So\, is the Warden’s House *really* haunted? Come to this event to find out! Johnsdale Paranormal Group from Onamia\, MN be giving two presentations on their closest\, creepiest encounters with unexplained phenomena at the Warden’s House and around the country. \n\n\n\n\nTickets available online only at WCHS Store under the Membership & Tickets tab
URL:https://www.wchsmn.org/event/johnsdale-paranormal-group-2/
LOCATION:Warden’s House Museum\, 602 Main Street North\, Stillwater\, MN\, 55082\, United States
CATEGORIES:Warden's House Museum
END:VEVENT
BEGIN:VEVENT
DTSTART;TZID=America/Chicago:20211030T180000
DTEND;TZID=America/Chicago:20211030T190000
DTSTAMP:20260420T061142
CREATED:20211005T183329Z
LAST-MODIFIED:20211005T185153Z
UID:3923-1635616800-1635620400@www.wchsmn.org
SUMMARY:Johnsdale Paranormal Group - 6pm
DESCRIPTION:So\, is the Warden’s House *really* haunted? Come to this event to find out! Johnsdale Paranormal Group from Onamia\, MN will be giving two presentations on their closest\, creepiest encounters with unexplained phenomena at the Warden’s House and around the country. \nTickets available online only at WCHS Store under the Membership & Tickets tab
URL:https://www.wchsmn.org/event/johnsdale-paranormal-group/
LOCATION:Warden’s House Museum\, 602 Main Street North\, Stillwater\, MN\, 55082\, United States
CATEGORIES:Warden's House Museum
END:VEVENT
BEGIN:VEVENT
DTSTART;TZID=America/Chicago:20211029T190000
DTEND;TZID=America/Chicago:20211029T230000
DTSTAMP:20260420T061142
CREATED:20211005T182948Z
LAST-MODIFIED:20211005T185001Z
UID:3919-1635534000-1635548400@www.wchsmn.org
SUMMARY:Flashlight Tours - 7pm\, 8pm\, 9pm\, and 10pm
DESCRIPTION:It’s spooky season – the perfect time to grab a flashlight and take an after-dark tour of the Warden’s House! Watch your back – our ghosts may be out to play! Flashlights will be provided. \nTickets available online only at WCHS Store under the Membership & Tickets tab
URL:https://www.wchsmn.org/event/flashlight-tours-7pm-8pm-9pm-and-10pm/
LOCATION:Warden’s House Museum\, 602 Main Street North\, Stillwater\, MN\, 55082\, United States
CATEGORIES:Warden's House Museum
END:VEVENT
BEGIN:VEVENT
DTSTART;TZID=America/Chicago:20211028T190000
DTEND;TZID=America/Chicago:20211028T230000
DTSTAMP:20260420T061142
CREATED:20211005T182442Z
LAST-MODIFIED:20211005T185035Z
UID:3915-1635447600-1635462000@www.wchsmn.org
SUMMARY:Flashlight Tours - 7pm\, 8pm\, 9pm\, and 10pm
DESCRIPTION:It’s spooky season – the perfect time to grab a flashlight and take an after-dark tour of the Warden’s House! Watch your back – our ghosts may be out to play! Flashlights will be provided. \nTickets available online only at WCHS Store under the Membership & Tickets tab \n\n 
URL:https://www.wchsmn.org/event/flashlight-tours/
LOCATION:Warden’s House Museum\, 602 Main Street North\, Stillwater\, MN\, 55082\, United States
CATEGORIES:Warden's House Museum
END:VEVENT
BEGIN:VEVENT
DTSTART;TZID=America/Chicago:20211016T100000
DTEND;TZID=America/Chicago:20211016T160000
DTSTAMP:20260420T061142
CREATED:20211005T202745Z
LAST-MODIFIED:20211005T211215Z
UID:3940-1634378400-1634400000@www.wchsmn.org
SUMMARY:Grand Opening of the Washington County Heritage Center
DESCRIPTION:The moment we’ve all been waiting for…the Grand Opening of the brand-new Washington County Heritage Center! \nAdmission is FREE for the grand opening – bring your families and friends! \nEvents and Performances: \n\n“Accent\,” a string duet consisting of Stillwater natives Travis Peterson (violin) and Jess Peterson (viola). Expect to hear selections from Bach to The Beatles and everything in between\n“Curtis & Loretta\,” a husband and wife duo performing traditional songs from America and the British Isles as well as originals. Dressed in 1800s costumes\, they make history come alive with their seamless harmonies and period instruments\nPaul Bunyan: Younger visitors during the grand opening will also have their own version of axe throwing\, and can meet and talk with the biggest lumberjack of them all!\nAxe throwing and log cutting in the front lawn provided by world champion lumberjacks Jim and Jamie Fischer\nNoon-2pm: Indigenous Drumming and Dancing in the Royal Credit Union Education Center\n\nAfter the grand opening the Heritage  Center will be open Tuesday through Sundays 10am to 4pm. Cost for admission will be $8 for adults and $3 for kids [6-17]. Members of the Washington County Historical Society get free admissions to all the WCHS historic sites.
URL:https://www.wchsmn.org/event/grand-opening-of-the-washington-county-heritage-center/
LOCATION:Washington County Heritage Center\, 1862 South Greeley St\, Stillwater\, MN\, 55082\, United States
CATEGORIES:Washington County Heritage Center
END:VEVENT
BEGIN:VEVENT
DTSTART;TZID=America/Chicago:20211006T190000
DTEND;TZID=America/Chicago:20211006T190000
DTSTAMP:20260420T061142
CREATED:20211005T175324Z
LAST-MODIFIED:20211005T211425Z
UID:3912-1633546800-1633546800@www.wchsmn.org
SUMMARY:Jason Burford Presentation
DESCRIPTION:A former inmate of the Minnesota Correctional Facility in Bayport will give a presentation regarding his time working on The Prison Mirror – one of the longest continuously published prison newspapers in the country! Jason will also speak about the history of the prison and his experience inside.
URL:https://www.wchsmn.org/event/jason-burford-presentation/
LOCATION:Warden’s House Museum\, 602 Main Street North\, Stillwater\, MN\, 55082\, United States
END:VEVENT
END:VCALENDAR