BEGIN:VCALENDAR
VERSION:2.0
PRODID:-//Washington County Historical Society - ECPv6.4.0.1//NONSGML v1.0//EN
CALSCALE:GREGORIAN
METHOD:PUBLISH
X-ORIGINAL-URL:https://www.wchsmn.org
X-WR-CALDESC:Events for Washington County Historical Society
REFRESH-INTERVAL;VALUE=DURATION:PT1H
X-Robots-Tag:noindex
X-PUBLISHED-TTL:PT1H
BEGIN:VTIMEZONE
TZID:America/Chicago
BEGIN:DAYLIGHT
TZOFFSETFROM:-0600
TZOFFSETTO:-0500
TZNAME:CDT
DTSTART:20250309T080000
END:DAYLIGHT
BEGIN:STANDARD
TZOFFSETFROM:-0500
TZOFFSETTO:-0600
TZNAME:CST
DTSTART:20251102T070000
END:STANDARD
BEGIN:DAYLIGHT
TZOFFSETFROM:-0600
TZOFFSETTO:-0500
TZNAME:CDT
DTSTART:20260308T080000
END:DAYLIGHT
BEGIN:STANDARD
TZOFFSETFROM:-0500
TZOFFSETTO:-0600
TZNAME:CST
DTSTART:20261101T070000
END:STANDARD
END:VTIMEZONE
BEGIN:VEVENT
DTSTART;TZID=America/Chicago:20251105T190000
DTEND;TZID=America/Chicago:20251105T200000
DTSTAMP:20260419T200400
CREATED:20250916T201306Z
LAST-MODIFIED:20251206T170605Z
UID:9770-1762369200-1762372800@www.wchsmn.org
SUMMARY:Minnesota Seventh in the Civil War with Eric Linner
DESCRIPTION:Eric Linner’s family has a long history of Army veterans\, including himself\, two brothers\, his father\, grandfather\, great-grandfather and great-great grandfather. His inspiration to research his great-great-grandfather’s journey with the Minnesota Seventh in the Civil War-West started 50 years ago when his grandmother piqued his interest in family history. \nThe presentation will give a brief history of his great-grandfather Sergeant James Madison Canfield\, with a primary focus on the 10\,600 mile journey the Minnesota Seventh traveled starting with the 1862 Dakota War and ending with the Battle of Spanish Fort\, AL in 1865. \n \n\nClick here to watch the program on WCHS’s YouTube page
URL:https://www.wchsmn.org/event/civilwar/
LOCATION:Washington County Heritage Center\, 1862 South Greeley St\, Stillwater\, MN\, 55082\, United States
CATEGORIES:Washington County Heritage Center
ORGANIZER;CN="Washington County Heritage Center":MAILTO:emily.krawczewski@wchsmn.org
END:VEVENT
BEGIN:VEVENT
DTSTART;TZID=America/Chicago:20251112T190000
DTEND;TZID=America/Chicago:20251112T200000
DTSTAMP:20260419T200400
CREATED:20250826T200639Z
LAST-MODIFIED:20251002T214714Z
UID:9716-1762974000-1762977600@www.wchsmn.org
SUMMARY:Discovering Pioneer Ancestors in Washington County with Judith Stern
DESCRIPTION:Who built the enormous\, strong barn at Aamodt’s Apple Farm? \nSurprise! It was Judith Stern’s own great\, great\, great grandfather from Meissenheim\, Baden\, Germany. \nJudith only learned that after moving to Washington County. Like a hungry detective\, she wanted to learn more. Her family tree on her maternal side grew to 159 names beginning in 1517 in Germany; and continuing in Minnesota. \nJudith Stern will show the audience her research including barns\, newspapers\, and photos of her ancestors. Artie Schaefer may be the only famous local musician in the Schaefer family\, but we all miss the um-pa\, um-pa singer who excited the crowds – raising his beer mug\, rousing us with the ticky\, tacky\, ticky tacky\, oie\, oie oie! \nThe show has a talk and screen presentation.  \nIn-person attendees:\n1862 Greeley Street South\nStillwater\, MN 55082\nVirtual attendees:\nLink to WCHS YouTube page\n  
URL:https://www.wchsmn.org/event/barns/
LOCATION:Washington County Heritage Center\, 1862 South Greeley St\, Stillwater\, MN\, 55082\, United States
CATEGORIES:Washington County Heritage Center
END:VEVENT
BEGIN:VEVENT
DTSTART;TZID=America/Chicago:20251125T170000
DTEND;TZID=America/Chicago:20251125T210000
DTSTAMP:20260419T200400
CREATED:20251111T202056Z
LAST-MODIFIED:20251121T211526Z
UID:9815-1764090000-1764104400@www.wchsmn.org
SUMMARY:Townie Tuesday @ Lift Bridge Brewing Company
DESCRIPTION:Join Lift Bridge Brewing Co. on Tuesday from 5:00 to 9:00 PM to enjoy a great Lift Bridge Brew and raise money for the Washington County Historical Society! \n$1 from every Tap Beer or Seltzer and $2 from every Crowler\, To Go Specialty Bottle or 12 Pack sold during the Event goes directly to WCHS. Buy a beer and make a difference! \nIn addition to catching up with neighbors and friends over a glass\, WCHS will be doing showings of the short film featured in their brewery exhibit at the Heritage Center\, produced by Square Lake Productions. The film features four local brew masters including Lift Bridge’s Brad Glynn. \nLift Bridge Brewery created the Townie Tuesday program for our Stillwater Taproom in 2013 to give back to local non-profits\, charities & organizations. It’s a fun way to help promote the awesome things in our community while enjoying a tasty beverage! \n\n\n#SupportLocal #DrinkLocal #MakeADifference #Community #TownieTuesday \n\nLocated at Lift Bridge Brewing Company’s Stillwater Taproom\n1900 Tower Dr. W\nStillwater\, MN 55082
URL:https://www.wchsmn.org/event/townietuesday/
LOCATION:1900 Tower Dr. W Stillwater\, MN 55082\, 1900 Tower Dr. W Stillwater\, MN 55082
END:VEVENT
BEGIN:VEVENT
DTSTART;TZID=America/Chicago:20251128T100000
DTEND;TZID=America/Chicago:20251128T160000
DTSTAMP:20260419T200400
CREATED:20251111T205657Z
LAST-MODIFIED:20251111T205657Z
UID:9821-1764324000-1764345600@www.wchsmn.org
SUMMARY:Black Friday Sale at the Heritage Center
DESCRIPTION:
URL:https://www.wchsmn.org/event/black-friday-sale-at-the-heritage-center/
LOCATION:Washington County Heritage Center\, 1862 South Greeley St\, Stillwater\, MN\, 55082\, United States
CATEGORIES:Washington County Heritage Center
ORGANIZER;CN="Washington County Heritage Center":MAILTO:emily.krawczewski@wchsmn.org
END:VEVENT
BEGIN:VEVENT
DTSTART;TZID=America/Chicago:20251217T190000
DTEND;TZID=America/Chicago:20251217T200000
DTSTAMP:20260419T200400
CREATED:20251022T165038Z
LAST-MODIFIED:20251209T190346Z
UID:9790-1765998000-1766001600@www.wchsmn.org
SUMMARY:The Fallen Washington County Service Members of Vietnam and How We Remember Them with Herb Reckinger
DESCRIPTION:The Vietnam Veterans Memorial Fund (VVMF) opened the Vietnam Memorial on our US Capitol Mall in1982 to honor all veterans of that war. With a PowerPoint presentation we will discover how that same organization makes sure we never forget the men and women of that era. \nJoin us for a free program to see the images from The Wall of Faces\, the story of how The Wall came to be and the traveling  wall called The Wall That Heals\, a 3-quarter size replica that travels to communities all over our country. Lastly\, we will cover the 50-year anniversaries of the endings of the war in 1975. \n  \nBarton Johnson is on the left and Mark Steeley is on the right. Barton is from the very northeast part of Washington County- Scandia. Mark is from the very southwest part – Cottage Grove. \nPresenter Herb Reckinger is a member of the Washington County Historical Society\, on the board for the South Washington Heritage Society\, volunteer for The Wall That Heals\, and has given several talks at the Heritage Center in the past. Learn more about the Vietnam Traveling Wall at: https://www.travelingwall.us/  \nIn-person attendees:\n1862 Greeley Street South\nStillwater\, MN 55082\nVirtual attendees:\nLink to WCHS YouTube page\nThe Traveling Memorial —
URL:https://www.wchsmn.org/event/vietnam/
LOCATION:Washington County Heritage Center\, 1862 South Greeley St\, Stillwater\, MN\, 55082\, United States
CATEGORIES:Washington County Heritage Center
ORGANIZER;CN="Washington County Heritage Center":MAILTO:emily.krawczewski@wchsmn.org
END:VEVENT
BEGIN:VEVENT
DTSTART;TZID=America/Chicago:20260211T190000
DTEND;TZID=America/Chicago:20260211T200000
DTSTAMP:20260419T200400
CREATED:20251213T194956Z
LAST-MODIFIED:20260107T173212Z
UID:9871-1770836400-1770840000@www.wchsmn.org
SUMMARY:Minnesota Streetcar History with Aaron Isaacs
DESCRIPTION: \nBefore automobiles\, planes\, and the Light Rail\, there were streetcars in cities across Minnesota. They were pulled by horses until 1889\, when electricity became practical. Stillwater had no horsecars because of its steep hills\, but in 1889 it opened the first electric streetcar lines in the state\, ahead of Minneapolis and St. Paul. A public transit boom ensued. \nBy World War I\, Twin City Rapid Transit company was running over 1100 streetcars on a system that reached from Lake Minnetonka to the St. Croix River\, including Stillwater and Bayport. It lasted until buses replaced the last of the streetcars in 1954. \nPresenter Aaron Isaacs will speak about Twin Cities streetcar history\, then focus on the Stillwater area. Isaacs spent 33 years as a planner and manager for Metro Transit\, where he worked in route and schedule planning\, operations\, maintenance\, transit facilities\, light rail and traffic advantages for buses. He’s a historian of transit\, as a 40+ year volunteer with the Minnesota Streetcar Museum. He’s co-author of Twin Cities by Trolley\, The Streetcar Era in Minneapolis and St. Paul\, and author of Twin Ports by Trolley on Duluth-Superior. \n\nIn-person attendees:\n1862 Greeley Street South\nStillwater\, MN 55082\nVirtual attendees:\nLink to WCHS YouTube page
URL:https://www.wchsmn.org/event/streetcars/
LOCATION:Washington County Heritage Center\, 1862 South Greeley St\, Stillwater\, MN\, 55082\, United States
CATEGORIES:Washington County Heritage Center
ORGANIZER;CN="Washington County Heritage Center":MAILTO:emily.krawczewski@wchsmn.org
END:VEVENT
BEGIN:VEVENT
DTSTART;TZID=America/Chicago:20260226T180000
DTEND;TZID=America/Chicago:20260226T200000
DTSTAMP:20260419T200400
CREATED:20260106T212741Z
LAST-MODIFIED:20260107T192425Z
UID:9886-1772128800-1772136000@www.wchsmn.org
SUMMARY:National Toast Day Celebration!
DESCRIPTION:Just over a century ago\, Charles Strite was employed at a local manufacturing plant. Fed up with burned toast in the cafeteria\, a great idea “popped” into his head\, and the Toastmaster automatic electric toaster was born! \nAbout the event: \n\nEnjoy a program about the history of toast and view our antique toaster collection.\nSample toast and toppings from local bakeries and markets\, and vote for your favorite to be named Toast of the Town.\nListen to Warden’s House Site Manager Heidi Heinze tell the history of the automatic pop-up toaster and its origins in Stillwater!\n\nToast Tasting begins at 6:00pm\nProgram begins at 6:30pm \nAdmission is free\, but donations are accepted. For more information please contact heidi.heinze@wchsmn.org
URL:https://www.wchsmn.org/event/toast26/
LOCATION:Washington County Heritage Center\, 1862 South Greeley St\, Stillwater\, MN\, 55082\, United States
CATEGORIES:Washington County Heritage Center
END:VEVENT
BEGIN:VEVENT
DTSTART;TZID=America/Chicago:20260319T173000
DTEND;TZID=America/Chicago:20260319T203000
DTSTAMP:20260419T200400
CREATED:20260211T212941Z
LAST-MODIFIED:20260211T215040Z
UID:9900-1773941400-1773952200@www.wchsmn.org
SUMMARY:2026 Annual Meeting and Dinner
DESCRIPTION:Where: Stillwater Event Center\, 1910 S. Greeley Street\, next to Washington County Heritage Center \nWhen: Thursday March 19\, 2026 \nItinerary:  5:30pm Social Hour [Cash Bar] \n                       6:30pm Dinner Catered by Scheel’s Catering \n                       7:30pm Annual meeting \n                       Program to follow meeting \nPresentation: “THEY DON’T MAKE ‘EM LIKE THAT ANYMORE!” \nAmerica’s love affair with the automobile over the decades has been hot\, lukewarm\, and even cold\, but one thing is certain\, cars are a part of who we are. WCHS board member and historian George Schire will take you on a highway of historical facts and hilarious anecdotes featuring the cars that have shaped all of our lives. Buckle up your seat belts and mark your calendars for this nostalgic road trip from the Horseless Carriage to present day EVs. \nReservations: \nReservations required in advance\nSeating is Limited/Large Attendance Expected\nEvent open to the Public \nCost: $25 for WCHS members / $30 for nonmembers \n\nReserve your spot here!
URL:https://www.wchsmn.org/event/meeting26/
LOCATION:Stillwater Event Center\, 1910 Greeley Street South\, Stillwater\, MN\, 55082\, United States
ORGANIZER;CN="Washington County Heritage Center":MAILTO:emily.krawczewski@wchsmn.org
END:VEVENT
BEGIN:VEVENT
DTSTART;TZID=America/Chicago:20260328T110000
DTEND;TZID=America/Chicago:20260328T120000
DTSTAMP:20260419T200400
CREATED:20260107T174848Z
LAST-MODIFIED:20260217T173026Z
UID:9891-1774695600-1774699200@www.wchsmn.org
SUMMARY:“Lighthouses of the Great Lakes: An Architect’s Sketchbook" with Jim Lammers
DESCRIPTION:Jim Lammers presents his newest book\, “Lighthouses of the Great Lakes: An Architect’s Sketchbook.” \nThe book contains 500 sketches of beacons all over the Great Lakes area. Lammers takes readers on a road trip\, sharing the history and inner workings of the lighthouses as well as the lighthouse establishment itself. Copies of the book will be for sale at the event. \n“If you love the Great Lakes and lighthouses\, this is the book for you. Lammers is an entertaining guide for this illuminating adventure\, combining fascinating history and personal vignettes with wonderful sketches of the noble beacons he encounters along the way. Don’t be surprised if\, after reading this book\, you want to hop into your car to take your own lighthouse tour.”\n—Eric Jay Dolin\, author of Brilliant Beacons: The History of the American Lighthouse \nFree\, but donations are always appreciated. No registration required.\nIn-person attendees:\n1862 Greeley Street South\nStillwater\, MN 55082\nVirtual attendees:\nLink to WCHS YouTube page
URL:https://www.wchsmn.org/event/lighthouse/
LOCATION:Washington County Heritage Center\, 1862 South Greeley St\, Stillwater\, MN\, 55082\, United States
CATEGORIES:Washington County Heritage Center
END:VEVENT
BEGIN:VEVENT
DTSTART;TZID=America/Chicago:20260425T110000
DTEND;TZID=America/Chicago:20260425T120000
DTSTAMP:20260419T200400
CREATED:20251212T203726Z
LAST-MODIFIED:20260217T182408Z
UID:9852-1777114800-1777118400@www.wchsmn.org
SUMMARY:"The Tales and Times of Isaac Labissonière" with Mark Labine
DESCRIPTION:Author and historian Mark Labine will tell the adventurous story of​ ​Isaac Labissonière\, a 19th Century Métis pioneer who ​blazed a trail of firsts in Minnesota. \nIsaac traveled with his family via oxcart from the Selkirk Colony to become one of the first settlers of St. Paul in the 1830s. He went on to build the St. Paul Chapel\, became one of the first landowners on Lake Como in 1848\, and established a community in Osseo. In addition\, his military career included the Battle of Kaposia in the U.S. Dakota War. \nCopies of Mark Labine’s new book titled\, “The Tales and Times of Isaac Labissonière” will be available for purchase at the event.  \n \nFree\, but donations are always appreciated. No registration required.\nIn-person attendees:\n1862 Greeley Street South\nStillwater\, MN 55082\nVirtual attendees:\nLink to WCHS YouTube page
URL:https://www.wchsmn.org/event/talesandtimes/
LOCATION:Washington County Heritage Center\, 1862 South Greeley St\, Stillwater\, MN\, 55082\, United States
CATEGORIES:Washington County Heritage Center
ORGANIZER;CN="Washington County Heritage Center":MAILTO:emily.krawczewski@wchsmn.org
END:VEVENT
BEGIN:VEVENT
DTSTART;TZID=America/Chicago:20260429T180000
DTEND;TZID=America/Chicago:20260429T200000
DTSTAMP:20260419T200400
CREATED:20251213T193032Z
LAST-MODIFIED:20260217T173040Z
UID:9868-1777485600-1777492800@www.wchsmn.org
SUMMARY:"WHO'S GOT THE TITLE BELT?" wrestling history with George Schire
DESCRIPTION:AWA wrestling fans mark your calendars for April 29\, 2026 from 6:00pm to 8:00pm for author/historian George Schire’s next talk and presentation.  It will be another Main Event as George share’s stories about the good\, the bad\, and the ugly character’s that wore wrestling’s greatest prize.  In addition\, George will include stories of the championship belts they held.  Run\, don’t walk to attend!   \nFree\, but donations are always appreciated. No registration required.\nIn-person attendees:\n1862 Greeley Street South\nStillwater\, MN 55082\nVirtual attendees:\nLink to WCHS YouTube page
URL:https://www.wchsmn.org/event/wrestling9/
LOCATION:Washington County Heritage Center\, 1862 South Greeley St\, Stillwater\, MN\, 55082\, United States
CATEGORIES:Washington County Heritage Center
ORGANIZER;CN="Washington County Heritage Center":MAILTO:emily.krawczewski@wchsmn.org
END:VEVENT
END:VCALENDAR