BEGIN:VCALENDAR
VERSION:2.0
PRODID:-//Washington County Historical Society - ECPv6.4.0.1//NONSGML v1.0//EN
CALSCALE:GREGORIAN
METHOD:PUBLISH
X-WR-CALNAME:Washington County Historical Society
X-ORIGINAL-URL:https://www.wchsmn.org
X-WR-CALDESC:Events for Washington County Historical Society
REFRESH-INTERVAL;VALUE=DURATION:PT1H
X-Robots-Tag:noindex
X-PUBLISHED-TTL:PT1H
BEGIN:VTIMEZONE
TZID:America/Chicago
BEGIN:DAYLIGHT
TZOFFSETFROM:-0600
TZOFFSETTO:-0500
TZNAME:CDT
DTSTART:20250309T080000
END:DAYLIGHT
BEGIN:STANDARD
TZOFFSETFROM:-0500
TZOFFSETTO:-0600
TZNAME:CST
DTSTART:20251102T070000
END:STANDARD
END:VTIMEZONE
BEGIN:VEVENT
DTSTART;TZID=America/Chicago:20250426T180000
DTEND;TZID=America/Chicago:20250426T191500
DTSTAMP:20260419T093210
CREATED:20250311T180648Z
LAST-MODIFIED:20250422T153048Z
UID:9399-1745690400-1745694900@www.wchsmn.org
SUMMARY:SOLD OUT 6PM Haunted History at the Warden’s House: Afterlife Sentences
DESCRIPTION:This event is Sold Out.\n \nThe Warden’s House Museum is excited to host the Twin Cities Paranormal Society (TCPS) for a presentation sharing their spookiest evidence from past ghost investigations including an investigation at the Warden’s House Museum in November 2024.\nTickets: $25/person. Limited Seating!\nBuy tickets here\nDoors will open at 5:00 for guests to tour the museum. \nWhat showed up on their cameras and audio equipment? Is the Warden’s House Museum actually haunted? \nAbout The Twin Cities Paranormal Society (TCPS) \nThe Twin Cities Paranormal Society is a not-for-profit organization serving the greater Twin Cities Metro area. We are dedicated to the research\, investigation\, documentation\, and education of the public regarding paranormal phenomenon. Our objective is to investigate and research claims of alleged haunted activity. All investigations are approached with an open mind and are conducted in a professional manner. \nLearn more about TCPS on their website. 
URL:https://www.wchsmn.org/event/hauntedhistory/
LOCATION:Warden’s House Museum\, 602 Main Street North\, Stillwater\, MN\, 55082\, United States
CATEGORIES:Warden's House Museum
END:VEVENT
BEGIN:VEVENT
DTSTART;TZID=America/Chicago:20250426T200000
DTEND;TZID=America/Chicago:20250426T213000
DTSTAMP:20260419T093210
CREATED:20250411T195702Z
LAST-MODIFIED:20250422T152633Z
UID:9433-1745697600-1745703000@www.wchsmn.org
SUMMARY:SOLD OUT 8PM Haunted History at the Warden’s House: Afterlife Sentences
DESCRIPTION:This event is Sold Out. \n  \n \nThe Warden’s House Museum is excited to host the Twin Cities Paranormal Society (TCPS) for a presentation sharing their spookiest evidence from past ghost investigations including an investigation at the Warden’s House Museum in November 2024.\nTickets: $25/person. Limited Seating!\nBuy tickets here\nWhat showed up on their cameras and audio equipment? Is the Warden’s House Museum actually haunted? \nAbout The Twin Cities Paranormal Society (TCPS) \nThe Twin Cities Paranormal Society is a not-for-profit organization serving the greater Twin Cities Metro area. We are dedicated to the research\, investigation\, documentation\, and education of the public regarding paranormal phenomenon. Our objective is to investigate and research claims of alleged haunted activity. All investigations are approached with an open mind and are conducted in a professional manner. \nLearn more about TCPS on their website. 
URL:https://www.wchsmn.org/event/hauntedhistory8pm/
LOCATION:Warden’s House Museum\, 602 Main Street North\, Stillwater\, MN\, 55082\, United States
CATEGORIES:Warden's House Museum
END:VEVENT
BEGIN:VEVENT
DTSTART;TZID=America/Chicago:20250427T120000
DTEND;TZID=America/Chicago:20250427T160000
DTSTAMP:20260419T093210
CREATED:20250325T175818Z
LAST-MODIFIED:20250325T175818Z
UID:9423-1745755200-1745769600@www.wchsmn.org
SUMMARY:2025 Warden's House Museum Open House
DESCRIPTION:Help us kick off a new season at the Warden’s House Museum!\n \nThe Warden’s House Museum is open from noon to 4pm and admission is FREE!\nCome chat with knowledgeable volunteers and hear harrowing stories about the territorial/state prison and tales about the wardens and their families. \nParking \nLimited parking is located behind the Warden’s House. Drive up the hill and past the house. The tour entrance is on the front porch.  Street parking is available in front of the building and across the street in the parking lot next to the walking trail and the Manitou Fund Education + Arts Center. \n**The handicapped accessible entrance is located behind the house. Guests are welcome to drop off behind the building and park elsewhere as needed. \nContact\nFor more information\, contact Heidi Heinze at heidi.heinze@wchsmn.org \nAbout the Warden’s House Museum:\nThe Warden’s House opened as a part of the new Minnesota Territorial Prison in 1853. Over time\, 13 Warden’s lived in the house until 1914. After that\, A superintendent of the Prison\, Thomas Ross\, and his family lived there until 1941 when the Washington County Historical Society purchase the home from the state and opened it as the second house museum in Minnesota that year. 
URL:https://www.wchsmn.org/event/2025-wardens-house-museum-open-house/
LOCATION:Warden’s House Museum\, 602 Main Street North\, Stillwater\, MN\, 55082\, United States
CATEGORIES:Warden's House Museum
END:VEVENT
BEGIN:VEVENT
DTSTART;TZID=America/Chicago:20250430T180000
DTEND;TZID=America/Chicago:20250430T200000
DTSTAMP:20260419T093210
CREATED:20250319T163218Z
LAST-MODIFIED:20250319T164220Z
UID:9411-1746036000-1746043200@www.wchsmn.org
SUMMARY:ALL-STAR WRESTLING with George Schire
DESCRIPTION:Baron Von Raschke about to put the “Claw Hold” on George Schire\, and Verne Gagne applying his “Sleeper Hold” \n\n \nRUN\, DON’T WALK…to the Washington County Heritage Center for Historian and Author George Schire’s latest ALL-STAR WRESTLING Talk and  Presentation! \n \nAs he always does\, Schire will take you through the ropes and down memory lane with stories of professional wrestling’s wild and wacky characters. \n \nWhether it be the heels or the babyfaces\, you’ll be entertained hearing of their character incarnations and the gimmicks that made us love them and hate them! \n \nAnd\, there will be another chance to win an incredible wrestling collectible! It’s a Main Event Night you won’t want to miss.  See you there!\n \n\nIn-person attendees:\n1862 Greeley Street South\nStillwater\, MN 55082\nVirtual attendees:\nLink to WCHS YouTube page
URL:https://www.wchsmn.org/event/wrestling7/
LOCATION:Washington County Heritage Center\, 1862 South Greeley St\, Stillwater\, MN\, 55082\, United States
CATEGORIES:Washington County Heritage Center
ORGANIZER;CN="Washington County Heritage Center":MAILTO:emily.krawczewski@wchsmn.org
END:VEVENT
END:VCALENDAR